BEGIN:VCALENDAR
VERSION:2.0
PRODID:-//wp-events-plugin.com//6.4.10.2//EN
BEGIN:VEVENT
UID:76@staggingunivida.unividamedicalcenters.com
DTSTART:20250213T100000Z
DTEND:20250214T140000Z
DTSTAMP:20250211T202740Z
URL:https://staggingunivida.unividamedicalcenters.com/es/events/celebra-sa
 n-valentin-con-nosotros/
SUMMARY:Celebra San Valentín con nosotros
DESCRIPTION:Evento Especial: ¡Semana del Amor y la Amistad en UniVida! ¡C
 elebra San Valentín con nosotros!\n\nEn UniVida Medical Centers\, creemos
  que el amor y la amistad son esenciales para una vida saludable.  Por es
 o\, esta semana queremos celebrarlo contigo en un ambiente lleno de alegr
 ía y bienestar.\n\nÚnete a nuestros eventos especiales de San Valentín 
 y comparte momentos inolvidables con nuestra comunidad.\n\n Jueves 13 de F
 ebrero:\nA partir de las 10:00 AM\, te esperamos en los siguientes centros
 :\n Cutler Bay: 16201 SW 95th Ave\, Cutler Bay\, FL 33157\n Pembroke Pi
 nes: 1800 N Douglas Rd\, Pembroke Pines\, FL 33024\n West Hialeah: 3825
  W 16th Ave\, Hialeah\, FL 33012\n Friday\, February 14 (St. Valentine’
 s Day):\nDesde las 10:00 AM\, seguimos celebrando en:\n Le Jeune: 860 NW
  42nd Ave\, Miami\, FL 33126\n Miami Lakes: 15225 NW 77th Ave\, Miami La
 kes\, FL 33014\n Palm Ave: 4526 Palm Ave\, Hialeah\, FL 33012\n West Mi
 ami: 6400 SW Calle 8\, Miami\, FL 33144\nDisfruta con nosotros:\n Música
  y entretenimiento\n Un delicioso almuerzo\n Sorpresas y regalos\n ¡Y\, p
 or supuesto\, mucho amor y amistad!\n ¡No te preocupes por el transporte!
  Contamos con servicio de cortesía para que puedas asistir.\n¡Te espera
 mos con los brazos abiertos! \n\nUniVida Medical Centers 
ATTACH;FMTTYPE=image/jpeg:https://staggingunivida.unividamedicalcenters.co
 m/wp-content/uploads/2025/02/Event_Enamorados_SPA.jpg
END:VEVENT
END:VCALENDAR