BEGIN:VCALENDAR
VERSION:2.0
PRODID:-//wp-events-plugin.com//6.4.10.2//EN
BEGIN:VEVENT
UID:41@staggingunivida.unividamedicalcenters.com
DTSTART:20240308T100000Z
DTEND:20240308T140000Z
DTSTAMP:20240726T192449Z
URL:https://staggingunivida.unividamedicalcenters.com/es/events/celebrando
 -a-la-mujer/
SUMMARY:Celebrando a la Mujer
DESCRIPTION:¡Celebrando a la Mujer en Univida!\n\nÚnete a nosotros en Uni
 Vida Miami Lakes para celebrar el Día Internacional de la Mujer\, honrand
 o la fuerza y dedicación que son una verdadera inspiración para todos no
 sotros. Este evento especial está diseñado para rendir homenaje a las mu
 jeres extraordinarias que hacen contribuciones significativas a nuestras v
 idas y comunidades.\n\n¿Qué Puedes Esperar? Te invitamos a disfrutar de:
 \n\nMúsica Inspiradora: Sumérgete en melodías que celebran la fortaleza
  y gracia de las mujeres.\n\nDelicias Gastronómicas: Deléitate con una s
 elección de exquisitas opciones gastronómicas para celebrar este día es
 pecial.\n\nSorpresas y Regalos: Participa en actividades emocionantes y te
 n la oportunidad de ganar premios exclusivos.\n\nInformación Valiosa: Des
 cubre recursos e información relevante para la salud y el bienestar de la
  mujer.\n\nHonrando a la Mujer: Un momento especial para reconocer y honra
 r a mujeres destacadas en nuestra comunidad.\n\n¡Acompáñanos en este D
 ía Especial!\n\nEn UniVida\, reconocemos y celebramos la contribución ú
 nica de las mujeres en todos los aspectos de la vida. Este evento es nuest
 ra manera de expresar gratitud y celebrar la diversidad\, la fuerza y la r
 esiliencia de todas las mujeres.\n\nÚnete a nosotros para un día lleno d
 e alegría\, inspiración y solidaridad. ¡Esperamos verte en este evento 
 tan significativo!\n\nInfórmese y coordine su transporte al (305) 998 204
 8
ATTACH;FMTTYPE=image/jpeg:https://staggingunivida.unividamedicalcenters.co
 m/wp-content/uploads/2024/03/166_Miami-Lakes_-Dia-de-la-mujer_website.png
LOCATION:UMC Miami Lakes\, 15225 NW 77TH AVE\, Miami Lakes\, FL\, 33014\, E
 stados Unidos
GEO:25.911676;-80.324149
X-APPLE-STRUCTURED-LOCATION;VALUE=URI;X-ADDRESS=15225 NW 77TH AVE\, Miami L
 akes\, FL\, 33014\, Estados Unidos;X-APPLE-RADIUS=100;X-TITLE=UMC Miami La
 kes:geo:25.911676,-80.324149
END:VEVENT
END:VCALENDAR