BEGIN:VCALENDAR
VERSION:2.0
PRODID:-//wp-events-plugin.com//6.4.10.2//EN
BEGIN:VEVENT
UID:67@staggingunivida.unividamedicalcenters.com
DTSTART:20241119T090000Z
DTEND:20241127T130000Z
DTSTAMP:20241114T184607Z
URL:https://staggingunivida.unividamedicalcenters.com/es/events/celebrando
 -el-dia-de-accion-de-gracias/
SUMMARY:Celebrando el Día de Acción de Gracias
DESCRIPTION:Evento especial: Celebrando el Día de Acción de Gracias\n\nGr
 acias por ser parte de nuestra familia UniVida. En honor al Día de Acció
 n de Gracias\, celebramos la gratitud y la hermandad\, junto a todos usted
 es\, nuestros pacientes y amigos. Únanse a nosotros en una jornada de con
 vivencia\, música\, deliciosa comida y entretenimiento.  \n\nCronograma:
 \n\n\n\nUniVida West Kendall – Dr. Puig\n📅 Fecha: Tuesday\, November
  19\n🕒 Hora: 11:00 am\n📍 Lugar: 3868 SW 137th Ave\, 3rd Floor\, FL 3
 3175\n\n\n\nUniVida Cutler Bay\n📅 Fecha: Thursday\, November 21\n🕒 H
 ora: 9:00 am - 1:00 pm\n📍 Lugar: 16201 SW 95th Ave\, Cutler Bay\, FL 33
 157\n\n\n\nUniVida Pembroke Pines\n📅 Fecha: Thursday\, November 21\n
 🕒 Hora: 9:00 am - 1:00 pm\n📍 Lugar: 1800 N Douglas Rd\, Pembroke Pin
 es\, FL 33024\n\n\n\nUniVida Le Jeune\n📅 Fecha: Friday\, November 22\n
 🕒 Hora: 9:00 am - 1:00 pm\n📍 Lugar: 860 NW 42nd Ave\, Ste 101\, Miam
 i\, FL 33126\n\n\n\nUniVida West Hialeah\n📅 Fecha: Friday\, November 22
 \n🕒 Hora: 9:00 am - 1:00 pm\n📍 Lugar: 3825 W 16th Ave\, Hialeah\, FL
  33012\n\n\n\nUniVida West Miami\n📅 Fecha: Friday\, November 22\n🕒 H
 ora: 9:00 am - 1:00 pm\n📍 Lugar: 6400 SW 8th St\, West Miami\, FL 33144
 \n\n\n\nUniVida Miami Lakes\n📅 Fecha: Wednesday\, November 27\n🕒 Hor
 a: 9:00 am - 1:00 pm\n📍 Lugar: 15225 NW 77th Ave\, Miami Lakes\, FL 330
 14\n\n\n\nDisfrute de nuestras celebraciones y recuerde que la gratitud es
  piedra angular de nuestra salud y armonía.\n¡Esperamos celebrarlo conti
 go!\n\nUniVida Medical Centers 
ATTACH;FMTTYPE=image/jpeg:https://staggingunivida.unividamedicalcenters.co
 m/wp-content/uploads/2024/11/Event_Thanksgiving_SPA.jpg
END:VEVENT
END:VCALENDAR