BEGIN:VCALENDAR
VERSION:2.0
PRODID:-//wp-events-plugin.com//6.4.10.2//EN
BEGIN:VEVENT
UID:59@staggingunivida.unividamedicalcenters.com
DTSTART:20240919T090000Z
DTEND:20240919T130000Z
DTSTAMP:20240917T183413Z
URL:https://staggingunivida.unividamedicalcenters.com/es/events/celebrando
 -el-mes-de-la-herencia-hispana/
SUMMARY:Celebrando el Mes de la Herencia Hispana
DESCRIPTION:Únete a nosotros para celebrar nuestras ricas tradiciones hisp
 anas y nuestro aporte a esta nación. ¡Habrá música\, entretenimiento y
  un delicioso almuerzo\n\nFecha?: Thursday\, September 19\nHora? 9:00am to
  1:00pm\nLugar?: 16201 SW 95th Ave\, Cutler Bay\, FL 33157\n\nPara más in
 formación y reservar tu transporte\, llámanos al   (305) 709-0722.\n\n
 ¡No te pierdas esta oportunidad de disfrutar y compartir con la comunidad
 !\n\n&nbsp\;
ATTACH;FMTTYPE=image/jpeg:https://staggingunivida.unividamedicalcenters.co
 m/wp-content/uploads/2024/09/Event_Hispanic-Heritage_ES.jpg
LOCATION:Cutler Bay\, 16201 SW 95th Ave\, Cutler Bay\, FL\, 33157\, Estados
  Unidos
GEO:25.618456;-80.346593
X-APPLE-STRUCTURED-LOCATION;VALUE=URI;X-ADDRESS=16201 SW 95th Ave\, Cutler 
 Bay\, FL\, 33157\, Estados Unidos;X-APPLE-RADIUS=100;X-TITLE=Cutler Bay:ge
 o:25.618456,-80.346593
END:VEVENT
END:VCALENDAR