BEGIN:VCALENDAR
VERSION:2.0
PRODID:-//wp-events-plugin.com//6.4.10.2//EN
BEGIN:VEVENT
UID:64@staggingunivida.unividamedicalcenters.com
DTSTART:20241025T090000Z
DTEND:20241031T120000Z
DTSTAMP:20241025T203430Z
URL:https://staggingunivida.unividamedicalcenters.com/es/events/celebrando
 -la-magia-de-octubre/
SUMMARY:Celebrando la magia de Octubre
DESCRIPTION:Evento especial: Celebrando la magia de Octubre\n\nEn Univida M
 edical Centers\, te invitamos a celebrar con nosotros el espíritu de octu
 bre en un día lleno de diversión y sorpresas. ¡Únete a nosotros para u
 na experiencia mágica!\n\nFechas:\n\n 	Viernes 25 de Octubre: UniVida Le 
 Jeune: 860 NW 42nd Ave\, Miami\, FL 33126\n 	Viernes 25 de Octubre: UniVid
 a West Miami: 6400 SW 8th St\, West Miami\, FL 33144\n 	Miercoles 30 de Oc
 tubre: UniVida West Hialeah: 3825 W 16th Ave\, Hialeah\, FL 33012\n 	Mierc
 oles 30 de Octubre: UniVida Miami Lakes: 15225 NW 77th Ave\, Miami Lakes\,
  FL 33014\n 	Jueves 31 de Octubre: UniVida Pembroke Pines: 1800 N Douglas 
 Rd\, Pembroke Pines\, FL 33024\n 	Jueves 31 de Octubre: UniVida Cutler Bay
 : 16201 SW 95th Ave\, Cutler Bay\, FL 33157\n 	Jueves 31 de Octubre: UniVi
 da Palm Ave: 4526 Palm Ave\, Hialeah\, FL 33012\n\nDestacados:\n\n 	Disfra
 ces creativos: ¡Abraza el espíritu de la temporada y ven con tu mejor di
 sfraz! Tendremos un concurso de disfraces para premiar los atuendos más c
 reativos e inspirados.\n 	Rifas y premios: Participa en nuestras rifas y t
 en la oportunidad de ganar premios especiales.\n 	Música en vivo: Disfrut
 a de música en vivo durante todo el evento\, haciendo de este un día ino
 lvidable.\n\nNo te pierdas esta oportunidad de conectarte\, divertirte y c
 elebrar la magia de octubre con Univida Medical Centers.\n\nPara más info
 rmación sobre el evento y cómo unirte a la celebración\, llama al sigui
 ente número: 305-340-2146.\n\n¡Esperamos compartir este evento especial 
 ("Celebrando la magia de Octubre") contigo!\n\nUniVida Medical Centers 
ATTACH;FMTTYPE=image/jpeg:https://staggingunivida.unividamedicalcenters.co
 m/wp-content/uploads/2024/10/Event_Halloween_SPA-1.jpg
END:VEVENT
END:VCALENDAR