BEGIN:VCALENDAR
VERSION:2.0
PRODID:-//wp-events-plugin.com//6.4.10.2//EN
BEGIN:VEVENT
UID:52@staggingunivida.unividamedicalcenters.com
DTSTART:20240704T000000Z
DTEND:20240704T000000Z
DTSTAMP:20240801T133106Z
URL:https://staggingunivida.unividamedicalcenters.com/es/events/celebremos
 -el-4-de-julio/
SUMMARY:Celebremos el 4 de Julio
DESCRIPTION:Celebración por el 4 de Julio en Nuestros Centros\n¡Celebremo
 s nuestra libertad y honrar a nuestro país por el 4 de Julio con una gran
  fiesta en nuestros centros! Habrá entretenimiento\, rifas y momentos esp
 eciales para compartir con miembros y amigos. ¡No te lo pierdas!\nFecha: 
 Jueves\, 11 de julio\nHora: 9:00 am a 1:00 pm\nCentro Cutler Bay: 16201 SW
  95th Ave\, Cutler Bay\, FL 33157\nPara más información\, llámanos al: 
 (305) 709-0722
ATTACH;FMTTYPE=image/jpeg:https://staggingunivida.unividamedicalcenters.co
 m/wp-content/uploads/2024/08/Event_4TH-JULY_EN-1.jpg
LOCATION:Cutler Bay\, 16201 SW 95th Ave\, Cutler Bay\, FL\, 33157\, Estados
  Unidos
GEO:25.618456;-80.346593
X-APPLE-STRUCTURED-LOCATION;VALUE=URI;X-ADDRESS=16201 SW 95th Ave\, Cutler 
 Bay\, FL\, 33157\, Estados Unidos;X-APPLE-RADIUS=100;X-TITLE=Cutler Bay:ge
 o:25.618456,-80.346593
END:VEVENT
END:VCALENDAR