BEGIN:VCALENDAR
VERSION:2.0
PRODID:-//wp-events-plugin.com//6.4.10.2//EN
BEGIN:VEVENT
UID:42@staggingunivida.unividamedicalcenters.com
DTSTART:20240302T100000Z
DTEND:20240302T140000Z
DTSTAMP:20240726T193157Z
URL:https://staggingunivida.unividamedicalcenters.com/es/events/comienza-u
 n-marzo-saludable/
SUMMARY:Comienza un marzo saludable
DESCRIPTION:¡Comienza un marzo saludable con UniVida Medical Centers!\n\n
 Únete a nosotros para dar la bienvenida a la primavera de una manera salu
 dable y divertida en nuestro evento especial dedicado a la salud y la dive
 rsión. Este será un día lleno de alegría y conocimiento\, diseñado pa
 ra celebrar la vitalidad y bienestar de nuestra comunidad.\n\n¿Qué puede
 s esperar?\n\nTe invitamos a disfrutar de:\n\nMúsica que inspira: Eleva t
 u espíritu con una selección musical vibrante que acompaña el inicio de
  la primavera.\n\nDelicias saludables: Descubre opciones gastronómicas de
 liciosas y saludables que complementarán tu estilo de vida.\n\nRifas y pr
 emios emocionantes: Participa y gana premios que te motivarán a mantener 
 un enfoque saludable en tu día a día.\n\nInvitados especiales: Únete a 
 profesionales de la salud y líderes comunitarios que compartirán su expe
 riencia y consejos valiosos.\n\nInformación sobre nuestros centros y serv
 icios: Aprovecha la oportunidad de conocer más sobre UniVida Medical Cent
 ers y los servicios que ofrecemos para el bienestar de la comunidad. Estar
 emos encantados de responder a tus preguntas y proporcionarte información
  valiosa.\n\n¡Te esperamos para celebrar la salud y la felicidad en Marzo
 ! La salud es vida\, y en UniVida estamos comprometidos a promover un esti
 lo de vida saludable y activo.\n\nÚnete a nosotros para celebrar la salud
  y la felicidad en marzo. ¡Te esperamos para un día lleno de diversión\
 , aprendizaje y comunidad!\n\nPara más información y transporte contáct
 enos al  (305) 709-0668
ATTACH;FMTTYPE=image/jpeg:https://staggingunivida.unividamedicalcenters.co
 m/wp-content/uploads/2024/02/165_March_West-Miami_website.png
LOCATION:Lejeune Towers\, 860 NW 42nd Ave\, Miami\, FL\, 33126\, Estados Un
 idos
GEO:25.780214;-80.264785
X-APPLE-STRUCTURED-LOCATION;VALUE=URI;X-ADDRESS=860 NW 42nd Ave\, Miami\, F
 L\, 33126\, Estados Unidos;X-APPLE-RADIUS=100;X-TITLE=Lejeune Towers:geo:2
 5.780214,-80.264785
END:VEVENT
END:VCALENDAR