BEGIN:VCALENDAR
VERSION:2.0
PRODID:-//wp-events-plugin.com//6.4.10.2//EN
BEGIN:VEVENT
UID:44@staggingunivida.unividamedicalcenters.com
DTSTART:20240210T100000Z
DTEND:20240210T140000Z
DTSTAMP:20240805T175416Z
URL:https://staggingunivida.unividamedicalcenters.com/es/events/corazones-
 saludables-miami-lakes-celebra-san-valentin/
SUMMARY:Corazones Saludables: Miami Lakes celebra San Valentín
DESCRIPTION:Evento especial: Corazones Saludables\n\n💖 Te extendemos una
  cálida invitación a celebrar el amor y la salud en este evento especial
  en nuestro centro ubicado en Miami Lakes. En Corazones Saludables\, fusio
 namos el encanto de San Valentín con el cuidado de la salud para brindart
 e una experiencia festiva e inolvidable. ¡Únete a nosotros y celebra!\n\
 nDetalles del evento:\n\nDurante la jornada\, podrás disfrutar de diversa
 s actividades diseñadas para celebrar el amor y fomentar la salud. Habrá
  música en vivo\, un delicioso almuerzo para compartir y actividades emoc
 ionantes.\n\n🎶 Música en Vivo: Crearemos un ambiente festivo con melod
 ías que llenarán de alegría el evento.\n\nSorpresas y Regalos: No falta
 rán las emocionantes rifas y sorpresas. ¡Tendrás la oportunidad de gana
 r premios especiales y llevarte recuerdos únicos del evento!\n\nRecorrido
  por el Centro: Explora nuestras modernas instalaciones y descubre cómo U
 niVida promueve la salud y el bienestar de la comunidad.\n\nEn Corazones S
 aludables\, creemos en un enfoque integral para la salud y la felicidad.\n
 \nÚnete a esta celebración única donde el amor y la salud se encuentran
 . ¡Te esperamos para compartir momentos especiales en esta ocasión festi
 va! 💖\n\nPara más detalles o para unirte a la celebración\, comuníca
 te con nosotros al (305) 998-2048.\n\n¡Los esperamos para celebrar juntos
  este Día de San Valentín!\n\nUniVida Medical Centers 
ATTACH;FMTTYPE=image/jpeg:https://staggingunivida.unividamedicalcenters.co
 m/wp-content/uploads/2024/02/162_February-10th_Miami-Lakes_website-1.png
LOCATION:UMC Miami Lakes\, 15225 NW 77TH AVE\, Miami Lakes\, FL\, 33014\, E
 stados Unidos
GEO:25.911676;-80.324149
X-APPLE-STRUCTURED-LOCATION;VALUE=URI;X-ADDRESS=15225 NW 77TH AVE\, Miami L
 akes\, FL\, 33014\, Estados Unidos;X-APPLE-RADIUS=100;X-TITLE=UMC Miami La
 kes:geo:25.911676,-80.324149
END:VEVENT
END:VCALENDAR