BEGIN:VCALENDAR
VERSION:2.0
PRODID:-//wp-events-plugin.com//6.4.10.2//EN
BEGIN:VEVENT
UID:48@staggingunivida.unividamedicalcenters.com
DTSTART:20240719T000000Z
DTEND:20240719T000000Z
DTSTAMP:20240801T125104Z
URL:https://staggingunivida.unividamedicalcenters.com/es/events/gran-apert
 ura-en-palm-ave/
SUMMARY:Gran Apertura en Palm Ave
DESCRIPTION:Inauguración Oficial Gran Apertura en Palm Ave\n¡Javier Romer
 o te invita a la Gran Apertura Oficial de UniVida Medical Centers en Palm 
 Ave! Acompáñanos para disfrutar de un día lleno de entretenimiento\, al
 muerzo\, música y mucha información útil sobre nuestros servicios de sa
 lud. No te pierdas este evento especial:\nFecha: Viernes\, 19 de julio\nHo
 ra: 9:00 am a 1:00 pm\nUbicación: 4526 Palm Avenue\, Hialeah\, FL 33012\n
 Phone: Para más información: (786) 600-7560\nDisfruta de un día increí
 ble con:\n\n 	Presentaciones especiales\n 	Almuerzo gratuito para los asis
 tentes\n 	Música en vivo\n\nInformación detallada sobre nuestros servici
 os de salud y bienestar\n¡Esta es una oportunidad única para conocer nue
 stro centro\, interactuar con nuestro equipo y aprender más sobre cómo U
 niVida Medical Centers puede contribuir al bienestar de tu familia y el tu
 yo propio! ¡No te lo pierdas!
ATTACH;FMTTYPE=image/jpeg:https://staggingunivida.unividamedicalcenters.co
 m/wp-content/uploads/2024/07/Event_Grand-Opening_Palm-Ave_ES.jpg
LOCATION:UMC Palm Ave\, 4526 Palm Avenue\, Hialeah\, FL\, 33012\, Estados U
 nidos
GEO:25.86326;-80.283087
X-APPLE-STRUCTURED-LOCATION;VALUE=URI;X-ADDRESS=4526 Palm Avenue\, Hialeah\
 , FL\, 33012\, Estados Unidos;X-APPLE-RADIUS=100;X-TITLE=UMC Palm Ave:geo:
 25.86326,-80.283087
END:VEVENT
END:VCALENDAR