BEGIN:VCALENDAR
VERSION:2.0
PRODID:-//wp-events-plugin.com//6.4.10.2//EN
BEGIN:VEVENT
UID:70@staggingunivida.unividamedicalcenters.com
DTSTART:20250117T090000Z
DTEND:20250117T130000Z
DTSTAMP:20250107T210354Z
URL:https://staggingunivida.unividamedicalcenters.com/es/events/gran-final
 -de-miss-univida-2024/
SUMMARY:¡Gran Final de Miss UniVida 2024!
DESCRIPTION:Evento Especial: Gran Final de Miss UniVida 2024\n\n¡Acompáñ
 anos en un evento inolvidable!\n\nVen a la elección de Miss UniVida 2024
 \, donde nuestras finalistas competirán por el honor de representar a nue
 stros centros durante todo el año\, promoviendo los valores de cuidado\, 
 bienestar y comunidad.\n\nDetalles del evento:\n\nFecha: Viernes\, Enero 1
 7\nHora: 9:00 AM\nUbicación: 6400 SW 8th St\, West Miami\, FL 33144\nCe
 lebra con nosotros esta tradición especial:\n\n 	Apoya a las finalistas.\
 n 	Disfruta de una jornada llena de alegría\, emoción y espíritu comuni
 tario.\n 	Sé parte de esta celebración única.\n\n¡Te esperamos para el
 egir a nuestra reina de UniVida!\n\nUniVida Medical Centers
ATTACH;FMTTYPE=image/jpeg:https://staggingunivida.unividamedicalcenters.co
 m/wp-content/uploads/2025/01/Event_Miss-UniVida_SPA.jpg
LOCATION:UMC - West Miami\, 6400 SW 8th St\, Miami\, FL\, 33144\, Estados U
 nidos
GEO:25.762945;-80.300117
X-APPLE-STRUCTURED-LOCATION;VALUE=URI;X-ADDRESS=6400 SW 8th St\, Miami\, FL
 \, 33144\, Estados Unidos;X-APPLE-RADIUS=100;X-TITLE=UMC - West Miami:geo:
 25.762945,-80.300117
END:VEVENT
END:VCALENDAR