BEGIN:VCALENDAR
VERSION:2.0
PRODID:-//wp-events-plugin.com//6.4.10.2//EN
BEGIN:VEVENT
UID:40@staggingunivida.unividamedicalcenters.com
DTSTART:20240726T090000Z
DTEND:20240726T130000Z
DTSTAMP:20240731T210037Z
URL:https://staggingunivida.unividamedicalcenters.com/es/events/gran-inaug
 uracion-del-nuevo-centro-de-bienestar/
SUMMARY:Gran Inauguración del Nuevo Centro de Bienestar
DESCRIPTION:¡Gran Inauguración del Nuevo Centro de Bienestar!\n\nÚnase a
  nosotros para la inauguración de nuestro moderno centro de bienestar en 
 West Miami. Esta instalación de vanguardia está diseñada para el disfru
 te y beneficio de nuestros miembros e invitados.\n\nLa gran inauguración 
 se llevará a cabo el:\nViernes\, 26 de julio de 2024\n6400 SW 8th Street\
 , West Miami\, FL 33144\nHorario: 9:00 am a 1:00 pm\n\nHemos planeado una 
 mañana llena de festividades\, que incluirá música en vivo\, un delicio
 so almuerzo\, sorpresas emocionantes y entretenimiento para todos.\n\nDesd
 e actividades interactivas hasta sesiones de meet-and-greet con nuestro pe
 rsonal dedicado\, hay algo para que todos disfruten. Esta es una gran opor
 tunidad para explorar nuestra nueva instalación\, conocer nuestros progra
 mas y conectar con nuestra comunidad.\n\n¡No se pierda este evento especi
 al! Para asegurarse de no preocuparse por el transporte\, llámenos al (30
 5) 709-0722 para reservar su transporte.\n\nEsperamos celebrar con usted y
  mostrarle todo lo que nuestro nuevo centro de bienestar tiene para ofrece
 r. Esto es más que una gran inauguración\; es el inicio de un nuevo cap
 ítulo en salud y bienestar para nuestra comunidad.\n\nUniVida Medical Cen
 ters 
ATTACH;FMTTYPE=image/jpeg:https://staggingunivida.unividamedicalcenters.co
 m/wp-content/uploads/2024/07/Event_Grand-Opening_Wellness-Center_ES.jpg
LOCATION:UMC - West Miami\, 6400 SW 8th St\, Miami\, FL\, 33144\, Estados U
 nidos
GEO:25.762945;-80.300117
X-APPLE-STRUCTURED-LOCATION;VALUE=URI;X-ADDRESS=6400 SW 8th St\, Miami\, FL
 \, 33144\, Estados Unidos;X-APPLE-RADIUS=100;X-TITLE=UMC - West Miami:geo:
 25.762945,-80.300117
END:VEVENT
END:VCALENDAR