BEGIN:VCALENDAR
VERSION:2.0
PRODID:-//wp-events-plugin.com//6.4.10.2//EN
BEGIN:VEVENT
UID:61@staggingunivida.unividamedicalcenters.com
DTSTART:20240928T100000Z
DTEND:20240928T130000Z
DTSTAMP:20240923T155316Z
URL:https://staggingunivida.unividamedicalcenters.com/es/events/nuevo-even
 to-de-puertas-abiertas-en-west-hialeah/
SUMMARY:Nuevo evento de Puertas Abiertas en West Hialeah
DESCRIPTION:¡Puertas Abiertas en West Hialeah!\n\nEste Sábado 28 de Septi
 embre\, te esperamos en nuestro centro de West Hialeah. Nuestro equipo est
 á listo para ofrecerte atención de calidad en nuestras modernas instalac
 iones y mostrarte todos los beneficios de ser parte de UniVida Medical Cen
 ters.\n\nDetalles del evento:\n\nCuando?: Sábado 28 de Septiembre\nHora? 
 9:00 am to 1:00 pm\nLugar?: 3825 W 16th Ave\, Hialeah\, FL 33012\n\n¡No t
 e pierdas esta oportunidad de mejorar tu salud y bienestar con nosotros!\n
 \nReserva tu transporte al  (305) 709-0722
ATTACH;FMTTYPE=image/jpeg:https://staggingunivida.unividamedicalcenters.co
 m/wp-content/uploads/2024/09/Event_Open-House_West-Hialeah_ES.jpg
LOCATION:UMC West Hialeah\, 3825 W 16th Ave\, Hialeah\, Florida\, 33012\, E
 stados Unidos
GEO:25.856468;-80.31418
X-APPLE-STRUCTURED-LOCATION;VALUE=URI;X-ADDRESS=3825 W 16th Ave\, Hialeah\,
  Florida\, 33012\, Estados Unidos;X-APPLE-RADIUS=100;X-TITLE=UMC West Hial
 eah:geo:25.856468,-80.31418
END:VEVENT
END:VCALENDAR