BEGIN:VCALENDAR
VERSION:2.0
PRODID:-//wp-events-plugin.com//6.4.10.2//EN
BEGIN:VEVENT
UID:51@staggingunivida.unividamedicalcenters.com
DTSTART:20240704T000000Z
DTEND:20240704T000000Z
DTSTAMP:20240805T182321Z
URL:https://staggingunivida.unividamedicalcenters.com/events/4th-of-july-c
 elebration/
SUMMARY:4th of July Celebration
DESCRIPTION:4th of July Celebration at Our Centers\nLet’s celebrate our f
 reedom and honor our country on the 4th of July with a big party at our ce
 nters! There will be entertainment\, raffles\, and special moments to shar
 e with members and friends. Don’t miss it!\nDate: Thursday\, July 11th\n
 Time: 9:00 am to 1:00 pm\nCenter Cutler Bay: 16201 SW 95th Ave\, Cutler Ba
 y\, FL 33157\nFor more information\, call us at: (305) 709-0722
ATTACH;FMTTYPE=image/jpeg:https://staggingunivida.unividamedicalcenters.co
 m/wp-content/uploads/2024/08/Event_4TH-JULY_EN-1.jpg
LOCATION:Cutler Bay\, 16201 SW 95th Ave\, Cutler Bay\, FL\, 33157\, United 
 States
GEO:25.618456;-80.346593
X-APPLE-STRUCTURED-LOCATION;VALUE=URI;X-ADDRESS=16201 SW 95th Ave\, Cutler 
 Bay\, FL\, 33157\, United States;X-APPLE-RADIUS=100;X-TITLE=Cutler Bay:geo
 :25.618456,-80.346593
END:VEVENT
END:VCALENDAR