BEGIN:VCALENDAR
VERSION:2.0
PRODID:-//wp-events-plugin.com//6.4.10.2//EN
BEGIN:VEVENT
UID:11@staggingunivida.unividamedicalcenters.com
DTSTART:20230812T100000Z
DTEND:20230812T140000Z
DTSTAMP:20230809T160424Z
URL:https://staggingunivida.unividamedicalcenters.com/events/abriendo-puer
 tas-a-la-vida/
SUMMARY:Abriendo Puertas a la Vida
DESCRIPTION:¡Evento especial: Abriendo Puertas a la Vida!\n\nEs un honor p
 ara nosotros invitarle a celebrar junto a nosotros en nuestro centro al su
 r de Miami-Dade. Queremos que te sumerjas en la riqueza de servicios que o
 frecemos en esta instalación de vanguardia\, diseñada pensando en satisf
 acer tus necesidades de manera integral.\n\nDetalles del evento\n\n 	Recor
 rido por las instalaciones\n 	¡Música\, comida\, rifas y entretenimiento
 !\n\nLa celebración estará impregnada de emocionantes actividades. Imagi
 na el ritmo de la música que te envolverá mientras disfrutas de los deli
 ciosos sabores de la comida que hemos preparado especialmente para ti. Ade
 más\, tendrás la posibilidad de ganar emocionantes premios en nuestras r
 ifas\, lo que añadirá un toque de emoción a la atmósfera festiva.\n\nL
 a salud es una parte fundamental de nuestra propuesta\, y en este evento p
 odrás acceder a información valiosa sobre cómo cuidar mejor de ti mismo
 . Expertos en salud estarán disponibles para brindarte consejos y orienta
 ción sobre cómo llevar un estilo de vida más saludable.\n\n¡No te pier
 das este increíble evento Abriendo Puertas a la Vida en Cutler Bay! Esper
 amos verte allí.\n\nCoordine su transportación al (305) 998-2048
ATTACH;FMTTYPE=image/jpeg:https://staggingunivida.unividamedicalcenters.co
 m/wp-content/uploads/2023/08/August-12th_Cutler-Bay_website.png
LOCATION:Cutler Bay\, 16201 SW 95th Ave\, Cutler Bay\, FL\, 33157\, United 
 States
GEO:25.618456;-80.346593
X-APPLE-STRUCTURED-LOCATION;VALUE=URI;X-ADDRESS=16201 SW 95th Ave\, Cutler 
 Bay\, FL\, 33157\, United States;X-APPLE-RADIUS=100;X-TITLE=Cutler Bay:geo
 :25.618456,-80.346593
END:VEVENT
END:VCALENDAR