BEGIN:VCALENDAR
VERSION:2.0
PRODID:-//wp-events-plugin.com//6.4.10.2//EN
BEGIN:VEVENT
UID:10@staggingunivida.unividamedicalcenters.com
DTSTART:20230805T100000Z
DTEND:20230805T140000Z
DTSTAMP:20230801T131634Z
URL:https://staggingunivida.unividamedicalcenters.com/events/bienestar-tro
 pical/
SUMMARY:Bienestar Tropical
DESCRIPTION:Evento especial:¡Bienestar Tropical!\n\nUniVida Medical Center
 s te invita a disfrutar de una experiencia inolvidable llena de bienestar 
 y diversión. No puedes perderte este emocionante evento que hemos prepara
 do especialmente para ti.\n\nHabrá música vibrante\, deliciosa comida tr
 opical\, emocionantes rifas y muchas sorpresas más. Además\, tendrás la
  oportunidad de llevarte souvenirs especiales y realizar un recorrido por 
 nuestras modernas instalaciones.\n\nEn ¡Bienestar Tropical! podrás conoc
 er de cerca nuestros servicios médicos y aprender de manera educativa sob
 re cómo cuidar de tu salud y bienestar. Nuestro equipo estará encantado 
 de responder a tus preguntas y brindarte información valiosa.\n\nNo te pi
 erdas esta oportunidad de disfrutar de un día lleno de alegría y conocim
 iento en UniVida Medical Centers. Te esperamos con los brazos abiertos par
 a compartir momentos inolvidables juntos. ¡No faltes!\n\n Llame para info
 rmación al:  305-998-2048\n\nUniVida Medical Centers 
ATTACH;FMTTYPE=image/jpeg:https://staggingunivida.unividamedicalcenters.co
 m/wp-content/uploads/2023/07/A110_August-5th_860-NW_Event_website-1.png
LOCATION:UMC - West Miami\, 6400 SW 8th St\, Miami\, FL\, 33144\, United St
 ates
GEO:25.762945;-80.300117
X-APPLE-STRUCTURED-LOCATION;VALUE=URI;X-ADDRESS=6400 SW 8th St\, Miami\, FL
 \, 33144\, United States;X-APPLE-RADIUS=100;X-TITLE=UMC - West Miami:geo:2
 5.762945,-80.300117
END:VEVENT
END:VCALENDAR