BEGIN:VCALENDAR
VERSION:2.0
PRODID:-//wp-events-plugin.com//6.4.10.2//EN
BEGIN:VEVENT
UID:57@staggingunivida.unividamedicalcenters.com
DTSTART:20240919T090000Z
DTEND:20240919T130000Z
DTSTAMP:20240917T181202Z
URL:https://staggingunivida.unividamedicalcenters.com/events/celebrating-h
 ispanic-heritage-month/
SUMMARY:Celebrating Hispanic Heritage Month
DESCRIPTION:Join us to celebrate our rich Hispanic traditions and our contr
 ibution to this nation. There will be music\, entertainment\, and a delici
 ous lunch!\n\nWhen?: Thursday\, September 19\nTime? 9:00am to 1:00pm\nWher
 e?: 16201 SW 95th Ave\, Cutler Bay\, FL 33157\n\nFor more information and 
 to reserve your transportation\, call us at  (305) 709-0722.\n\nDon’t 
 miss this opportunity to enjoy and connect with the community!\n\n&nbsp\;
ATTACH;FMTTYPE=image/jpeg:https://staggingunivida.unividamedicalcenters.co
 m/wp-content/uploads/2024/09/Event_Hispanic-Heritage_EN.jpg
LOCATION:Cutler Bay\, 16201 SW 95th Ave\, Cutler Bay\, FL\, 33157\, United 
 States
GEO:25.618456;-80.346593
X-APPLE-STRUCTURED-LOCATION;VALUE=URI;X-ADDRESS=16201 SW 95th Ave\, Cutler 
 Bay\, FL\, 33157\, United States;X-APPLE-RADIUS=100;X-TITLE=Cutler Bay:geo
 :25.618456,-80.346593
END:VEVENT
END:VCALENDAR