BEGIN:VCALENDAR
VERSION:2.0
PRODID:-//wp-events-plugin.com//6.4.10.2//EN
BEGIN:VEVENT
UID:65@staggingunivida.unividamedicalcenters.com
DTSTART:20241119T090000Z
DTEND:20241127T130000Z
DTSTAMP:20241114T183317Z
URL:https://staggingunivida.unividamedicalcenters.com/events/celebrating-t
 hanksgiving/
SUMMARY:Celebrating Thanksgiving
DESCRIPTION:Special event: Celebrating Thanksgiving!\n\nThank You for Being
  Part of the UniVida Family!. In honor of Thanksgiving\, we are celebratin
 g gratitude and togetherness with all of you—our patients and friends. J
 oin us for a day filled with community\, music\, delicious food\, and ente
 rtainment. UniVida Medical Centers wouldn’t be the same without you.\n\n
 Schedule:\n\n\n\nUniVida West Kendall – Dr. Puig\n📅 Date: Tuesday\, 
 November 19\n🕒 Time: 11:00 am\n📍 Location: 3868 SW 137th Ave\, 3rd F
 loor\, FL 33175\n\n\n\nUniVida Cutler Bay\n📅 Date: Thursday\, November 
 21\n🕒 Time: 9:00 am - 1:00 pm\n📍 Location: 16201 SW 95th Ave\, Cutle
 r Bay\, FL 33157\n\n\n\nUniVida Pembroke Pines\n📅 Date: Thursday\, Nove
 mber 21\n🕒 Time: 9:00 am - 1:00 pm\n📍 Location: 1800 N Douglas Rd\, 
 Pembroke Pines\, FL 33024\n\n\n\nUniVida Le Jeune\n📅 Date: Friday\, Nov
 ember 22\n🕒 Time: 9:00 am - 1:00 pm\n📍 Location: 860 NW 42nd Ave\, S
 te 101\, Miami\, FL 33126\n\n\n\nUniVida West Hialeah\n📅 Date: Friday\,
  November 22\n🕒 Time: 9:00 am - 1:00 pm\n📍 Location: 3825 W 16th Ave
 \, Hialeah\, FL 33012\n\n\n\nUniVida West Miami\n📅 Date: Friday\, Novem
 ber 22\n🕒 Time: 9:00 am - 1:00 pm\n📍 Location: 6400 SW 8th St\, West
  Miami\, FL 33144\n\n\n\nUniVida Miami Lakes\n📅 Date: Wednesday\, Novem
 ber 27\n🕒 Time: 9:00 am - 1:00 pm\n📍 Location: 15225 NW 77th Ave\, M
 iami Lakes\, FL 33014\n\n\n\nEnjoy our celebrations and remember that grat
 itude is a cornerstone of our health and harmony.\nWe look forward to cele
 brating with you!\n\nUniVida Medical Centers 
ATTACH;FMTTYPE=image/jpeg:https://staggingunivida.unividamedicalcenters.co
 m/wp-content/uploads/2024/11/Event_Thanksgiving_ENG.jpg
END:VEVENT
END:VCALENDAR