BEGIN:VCALENDAR
VERSION:2.0
PRODID:-//wp-events-plugin.com//6.4.10.2//EN
BEGIN:VEVENT
UID:37@staggingunivida.unividamedicalcenters.com
DTSTART:20240308T100000Z
DTEND:20240308T140000Z
DTSTAMP:20240726T192429Z
URL:https://staggingunivida.unividamedicalcenters.com/events/celebrating-w
 omen/
SUMMARY:Celebrating Women
DESCRIPTION:Celebrating Women at UniVida!\n\nJoin us at UniVida Miami Lakes
  to celebrate International Women's Day\, honoring the strength and dedica
 tion that truly inspire us all. This special event is designed to pay trib
 ute to the extraordinary women who make significant contributions to our l
 ives and communities.\n\nWhat to Expect? We invite you to enjoy:\n\n 	Insp
 iring Music: Immerse yourself in melodies that celebrate the strength and 
 grace of women.\n 	Gourmet Delights: Savor a selection of exquisite food o
 ptions to celebrate this special day.\n 	Surprises and Prizes: Participate
  in exciting activities and have the chance to win exclusive prizes.\n 	Va
 luable Information: Discover resources and relevant information for women'
 s health and well-being.\n 	Honoring Women: A special moment to recognize 
 and honor outstanding women in our community.\n\nJoin Us on This Special D
 ay!\n\nAt UniVida\, we recognize and celebrate the unique contributions of
  women in all aspects of life. This event is our way of expressing gratitu
 de and celebrating the diversity\, strength\, and resilience of all women.
 \n\nJoin us for a day filled with joy\, inspiration\, and solidarity. We l
 ook forward to seeing you at this meaningful event!\n\nFor information and
  transportation coordination\, please call (305) 998 2048.
ATTACH;FMTTYPE=image/jpeg:https://staggingunivida.unividamedicalcenters.co
 m/wp-content/uploads/2024/03/166_Miami-Lakes_-Dia-de-la-mujer_website.png
LOCATION:UMC Miami Lakes\, 15225 NW 77TH AVE\, Miami Lakes\, FL\, 33014\, U
 nited States
GEO:25.911676;-80.324149
X-APPLE-STRUCTURED-LOCATION;VALUE=URI;X-ADDRESS=15225 NW 77TH AVE\, Miami L
 akes\, FL\, 33014\, United States;X-APPLE-RADIUS=100;X-TITLE=UMC Miami Lak
 es:geo:25.911676,-80.324149
END:VEVENT
END:VCALENDAR