BEGIN:VCALENDAR
VERSION:2.0
PRODID:-//wp-events-plugin.com//6.4.10.2//EN
BEGIN:VEVENT
UID:29@staggingunivida.unividamedicalcenters.com
DTSTART:20240113T100000Z
DTEND:20240113T140000Z
DTSTAMP:20240102T195748Z
URL:https://staggingunivida.unividamedicalcenters.com/events/elevando-la-s
 alud-en-el-2024/
SUMMARY:Elevando la salud en el 2024 
DESCRIPTION:Evento especial: ¡Elevando la salud en el 2024!\n\nUniVida Med
 ical Centers les invita a disfrutar de un comienzo de año emocionante en 
 nuestro evento especial "Elevando la salud en el 2024"\, queremos dar la b
 ienvenida a todos aquellos que buscan mejorar su bienestar en este nuevo a
 ño.\n\nDurante el evento\, los asistentes podrán deleitarse con música 
 en vivo para animar el ambiente y crear una atmósfera festiva. Además\, 
 les ofreceremos un espacio para el entretenimiento\, y habrá una rifa emo
 cionante donde tendrán la oportunidad de ganar premios especiales.\n\nCom
 o parte de la celebración\, presentaremos nuestros diversos servicios dis
 eñados para elevar la salud y promover un estilo de vida saludable. Tambi
 én se ofrecerán souvenirs conmemorativos del evento y se realizará un r
 ecorrido por nuestro Centro\, brindando a los asistentes la oportunidad de
  conocer nuestras instalaciones de cerca.\n\nNo desaproveche esta una opor
 tunidad de comenzar el año de manera positiva y enfocarse en la salud y e
 l bienestar. UniVida Medical Centers desea proporcionar un espacio donde p
 uedan relajarse\, divertirse y aprender más sobre cómo mejorar su salud 
 en el 2024.\n\nPara más información sobre el evento y cómo unirse a la 
 celebración\, pueden llamar al siguiente número: 305-998-2048.\n\n¡Los 
 esperamos para compartir juntos esta ocasión especial!\n\n \n\nUniVida M
 edical Centers 
ATTACH;FMTTYPE=image/jpeg:https://staggingunivida.unividamedicalcenters.co
 m/wp-content/uploads/2024/01/154_January-13rd_860-NW_website.png
LOCATION:Lejeune Towers\, 860 NW 42nd Ave\, Miami\, FL\, 33126\, United Sta
 tes
GEO:25.780214;-80.264785
X-APPLE-STRUCTURED-LOCATION;VALUE=URI;X-ADDRESS=860 NW 42nd Ave\, Miami\, F
 L\, 33126\, United States;X-APPLE-RADIUS=100;X-TITLE=Lejeune Towers:geo:25
 .780214,-80.264785
END:VEVENT
END:VCALENDAR