BEGIN:VCALENDAR
VERSION:2.0
PRODID:-//wp-events-plugin.com//6.4.10.2//EN
BEGIN:VEVENT
UID:63@staggingunivida.unividamedicalcenters.com
DTSTART:20241025T090000Z
DTEND:20241031T120000Z
DTSTAMP:20241025T203539Z
URL:https://staggingunivida.unividamedicalcenters.com/events/embracing-oct
 obers-magic/
SUMMARY:Embracing October's Magic
DESCRIPTION:Special event: Embracing October's Magic\n\nAt Univida Medical 
 Centers\, we invite you to celebrate the spirit of October with us in a da
 y filled with fun and surprises. Join us for a magical experience!\n\nSche
 dule:\n\n 	Friday\, October 25: UniVida Le Jeune: 860 NW 42nd Ave\, Miami\
 , FL 33126\n 	Friday\, October 25: UniVida West Miami: 6400 SW 8th St\, We
 st Miami\, FL 33144\n 	Wednesday\, October 30: UniVida West Hialeah: 3825 
 W 16th Ave\, Hialeah\, FL 33012\n 	Wednesday\, October 30: UniVida Miami L
 akes: 15225 NW 77th Ave\, Miami Lakes\, FL 33014\n 	Thursday\, October 31:
  UniVida Pembroke Pines: 1800 N Douglas Rd\, Pembroke Pines\, FL 33024\n 	
 Thursday\, October 31: UniVida Cutler Bay: 16201 SW 95th Ave\, Cutler Bay\
 , FL 33157\n 	Thursday\, October 31: UniVida Palm Ave: 4526 Palm Ave\, Hia
 leah\, FL 33012\n\nHighlights:\n\n 	Creative Costumes: Embrace the spirit 
 of the season and wear your best costume! We’ll have a costume contest t
 o reward the most creative and inspired outfits.\n 	Raffles and Prizes: En
 ter our raffles for a chance to win special prizes.\n 	Live Music: Enjoy l
 ive music throughout the event\, making it a day to remember.\n\nDon't mis
 s this opportunity to connect\, have fun\, and celebrate October’s magic
  with Univida Medical Centers!\n\nFor more information about the event and
  how to join the celebration\, please call the following number: 305-340-2
 146.\n\nWe look forward to sharing this special event ( Embracing October'
 s Magic ) with you!\n\nUniVida Medical Centers 
ATTACH;FMTTYPE=image/jpeg:https://staggingunivida.unividamedicalcenters.co
 m/wp-content/uploads/2024/10/Event_Halloween_ENG-1.jpg
END:VEVENT
END:VCALENDAR