BEGIN:VCALENDAR
VERSION:2.0
PRODID:-//wp-events-plugin.com//6.4.10.2//EN
BEGIN:VEVENT
UID:25@staggingunivida.unividamedicalcenters.com
DTSTART:20231111T100000Z
DTEND:20231111T140000Z
DTSTAMP:20231106T163646Z
URL:https://staggingunivida.unividamedicalcenters.com/events/evento-de-acc
 ion-de-gracias/
SUMMARY:Evento de Acción de Gracias
DESCRIPTION:Evento especial:¡Acción de Gracias!\n\nEn UniVida Medical Cen
 ters\, no solo cuidamos tu salud\, sino que también celebramos la vida en
  todas sus manifestaciones. Y qué mejor ocasión que la temporada de Acci
 ón de Gracias para hacerlo.\n\nDetalles del Evento:\n\n 	Explora Nuestras
  Instalaciones: Te invitamos a conocer nuestras modernas instalaciones y d
 escubrir cómo hemos creado un ambiente acogedor para brindar atención m
 édica de calidad. Aquí\, valoramos tu salud y bienestar\, y estamos comp
 rometidos con la comunidad.\n 	Música\, Comida\, Rifas y Entretenimiento:
  Sumérgete en una atmósfera festiva llena de música en vivo\, delicioso
 s platillos\, emocionantes rifas y actividades que harán que esta jornada
  sea inolvidable.\n 	Invitados Especiales: Contaremos con la presencia de 
 invitados de honor que compartirán su experiencia y conocimientos en el 
 ámbito de la salud y el bienestar. Aprende de los mejores y descubre cóm
 o cuidar de tu salud de la manera más efectiva.\n\n¡Prepara tu corazón 
 lleno de gratitud y únete a nosotros en esta celebración de Acción de G
 racias! En UniVida\, queremos compartir esta temporada de agradecimiento c
 ontigo y celebrar la vida\, la alegría y la solidaridad con la comunidad.
 \n\nNo te pierdas esta fiesta de Acción de Gracias\, donde la magia de la
  temporada se combina con nuestro compromiso con la salud y la vida. ¡Ven
  y celebra con nosotros en UniVida Medical Centers!\n\nInfórmese y coordi
 ne su transporte al: 305-340-2146\n\n¡Los esperamos!\n\nUnivida Medical C
 enters\, donde Salud es Vida.
ATTACH;FMTTYPE=image/jpeg:https://staggingunivida.unividamedicalcenters.co
 m/wp-content/uploads/2023/11/West-Miami_website.png
LOCATION:UMC - West Miami\, 6400 SW 8th St\, Miami\, FL\, 33144\, United St
 ates
GEO:25.762945;-80.300117
X-APPLE-STRUCTURED-LOCATION;VALUE=URI;X-ADDRESS=6400 SW 8th St\, Miami\, FL
 \, 33144\, United States;X-APPLE-RADIUS=100;X-TITLE=UMC - West Miami:geo:2
 5.762945,-80.300117
END:VEVENT
END:VCALENDAR