BEGIN:VCALENDAR
VERSION:2.0
PRODID:-//wp-events-plugin.com//6.4.10.2//EN
BEGIN:VEVENT
UID:22@staggingunivida.unividamedicalcenters.com
DTSTART:20231028T100000Z
DTEND:20231028T140000Z
DTSTAMP:20231020T192806Z
URL:https://staggingunivida.unividamedicalcenters.com/events/evento-de-hal
 loween-en-miami-lakes/
SUMMARY:Evento de Halloween en Miami Lakes
DESCRIPTION:¡Prepárate para una fiesta de disfraces espectacular en Miami
  Lakes!\n\nEn UniVida Medical Centers\, nuestra misión va más allá de c
 uidar tu salud\; celebramos la vida en todas sus manifestaciones. Y\, ¿qu
 é mejor ocasión para hacerlo que en Halloween?\n\nDetalles del evento\n\
 n 	Recorrido por las instalaciones\n 	¡Música\, comida\, rifas y entrete
 nimiento!\n 	Invitados especiales\n\n&nbsp\;\n\n¡Prepara tu disfraz más 
 creativo y original para nuestra competencia! Tendrás la oportunidad de c
 ompetir por emocionantes premios y sorprendernos con tu ingenio. Halloween
  es una ocasión especial para celebrar la vida\, la alegría y la creativ
 idad\, y en UniVida\, queremos compartir esta celebración contigo.\n\nNo 
 te pierdas esta fiesta de Halloween en Miami Lakes\, donde la magia de la 
 temporada se une a nuestro compromiso con la salud y la vida. ¡Ven y cele
 bra con estilo en UniVida Medical Centers!\n\nInfórmese y coordine su tra
 nsporte al (305) 340-2146
ATTACH;FMTTYPE=image/jpeg:https://staggingunivida.unividamedicalcenters.co
 m/wp-content/uploads/2023/10/October-28th_evento-de-halloween_Miami-Lakes-
 1.png
LOCATION:UMC Miami Lakes\, 15225 NW 77TH AVE\, Miami Lakes\, FL\, 33014\, U
 nited States
GEO:25.911676;-80.324149
X-APPLE-STRUCTURED-LOCATION;VALUE=URI;X-ADDRESS=15225 NW 77TH AVE\, Miami L
 akes\, FL\, 33014\, United States;X-APPLE-RADIUS=100;X-TITLE=UMC Miami Lak
 es:geo:25.911676,-80.324149
END:VEVENT
END:VCALENDAR