BEGIN:VCALENDAR
VERSION:2.0
PRODID:-//wp-events-plugin.com//6.4.10.2//EN
BEGIN:VEVENT
UID:20@staggingunivida.unividamedicalcenters.com
DTSTART:20231014T100000Z
DTEND:20231014T140000Z
DTSTAMP:20231009T193007Z
URL:https://staggingunivida.unividamedicalcenters.com/events/evento-de-pue
 rtas-abiertas-en-el-doral/
SUMMARY:Evento de puertas abiertas en el Doral
DESCRIPTION:Evento de Puertas abiertas en la ciudad del Doral\n\nUniVida Me
 dical Centers les da una cálida bienvenida a nuestro emocionante evento d
 e puertas abiertas en la ciudad de Doral. Los invitamos cordialmente a uni
 rse a nosotros en esta jornada especial\, donde podrán explorar y disfrut
 ar de todo lo que nuestro nuevo centro tiene para ofrecer.\n\nDetalles del
  evento\n\n 	Recorrido por las instalaciones\n 	¡Música\, comida\, rifas
  y entretenimiento!\n 	Invitados especiales\n\n&nbsp\;\n\nEn UniVida Medic
 al Centers\, nuestra prioridad es su salud y bienestar. Durante este event
 o\, tendrán la oportunidad de obtener información detallada sobre nuestr
 os servicios médicos. Nuestro equipo estará disponible para responder a 
 sus preguntas y proporcionarles orientación sobre las opciones de atenci
 ón médica y los tratamientos disponibles.\n\nPero no todo será informac
 ión\; también queremos que disfruten de momentos agradables y divertidos
  mientras exploran nuestras instalaciones y aprenden más sobre nuestra fi
 losofía de atención integral.\n\nEste evento de puertas abiertas es una 
 ocasión especial para conectarse con la comunidad y estrechar lazos. Esta
 mos emocionados por compartir nuestro nuevo centro en Doral con todos uste
 des y mostrarles cómo trabajamos para promover una vida saludable y plena
 .\n\nLos esperamos con los brazos abiertos en nuestro evento de puertas ab
 iertas.\n\n¡No se pierdan esta emocionante jornada en el Doral! Estamos a
 nsiosos por recibirlos y acompañarlos en este recorrido por UniVida Medic
 al Centers.\n\nReserve gratis al (305) 998-2048
ATTACH;FMTTYPE=image/jpeg:https://staggingunivida.unividamedicalcenters.co
 m/wp-content/uploads/2023/10/124_October-14th_-Doral_website.png
LOCATION:UMC Doral\, 3901 NW 79th Ave\, Doral\, FL\, 33166\, United States
GEO:25.809981;-80.324836
X-APPLE-STRUCTURED-LOCATION;VALUE=URI;X-ADDRESS=3901 NW 79th Ave\, Doral\, 
 FL\, 33166\, United States;X-APPLE-RADIUS=100;X-TITLE=UMC Doral:geo:25.809
 981,-80.324836
END:VEVENT
END:VCALENDAR