BEGIN:VCALENDAR
VERSION:2.0
PRODID:-//wp-events-plugin.com//6.4.10.2//EN
BEGIN:VEVENT
UID:8@staggingunivida.unividamedicalcenters.com
DTSTART:20230722T100000Z
DTEND:20230722T140000Z
DTSTAMP:20230728T175203Z
URL:https://staggingunivida.unividamedicalcenters.com/events/evento-de-ver
 ano-en-cutler-bay/
SUMMARY:Evento de verano en Cutler Bay
DESCRIPTION:¡Evento especial de verano en Cutler Bay!\n\n¡Te invitamos a 
 nuestro emocionante evento de verano\, donde podrás explorar nuestra mode
 rna instalación y descubrir una amplia gama de servicios mientras disfrut
 as de diversas formas de entretenimiento!\n\nNuestro querido amigo\, el co
 mediante y presentador Carlucho\, junto con el elenco de su espectáculo\,
  te dará una cálida bienvenida en un evento donde la salud es vida.\n\nD
 etalles del evento\n\n 	Recorrido por las instalaciones\n 	¡Música\, com
 ida\, rifas y entretenimiento!\n 	Invitados especiales\n\nUniVida Medical 
 Centers te da una cálida bienvenida a este evento especial. Durante la jo
 rnada\, tendrás la oportunidad de conocer de cerca nuestra amplia gama de
  servicios médicos que brindamos en este centro.\n\n¡No te pierdas este 
 increíble evento de verano en Cutler Bay! Esperamos verte allí.\n\nCoord
 ine su transportación al (305) 998-2048
ATTACH;FMTTYPE=image/jpeg:https://staggingunivida.unividamedicalcenters.co
 m/wp-content/uploads/2023/07/July-22nd_Cutler-Bay-Event_website.png
LOCATION:Cutler Bay\, 16201 SW 95th Ave\, Cutler Bay\, FL\, 33157\, United 
 States
GEO:25.618456;-80.346593
X-APPLE-STRUCTURED-LOCATION;VALUE=URI;X-ADDRESS=16201 SW 95th Ave\, Cutler 
 Bay\, FL\, 33157\, United States;X-APPLE-RADIUS=100;X-TITLE=Cutler Bay:geo
 :25.618456,-80.346593
END:VEVENT
END:VCALENDAR