BEGIN:VCALENDAR
VERSION:2.0
PRODID:-//wp-events-plugin.com//6.4.10.2//EN
BEGIN:VEVENT
UID:18@staggingunivida.unividamedicalcenters.com
DTSTART:20230930T100000Z
DTEND:20230930T140000Z
DTSTAMP:20230925T164332Z
URL:https://staggingunivida.unividamedicalcenters.com/events/gran-apertura
 -en-el-doral/
SUMMARY:Gran Apertura en el Doral
DESCRIPTION:¡Gran Apertura en la ciudad del Doral!\n\nCon entusiasmo y ale
 gría\, te extendemos una cálida bienvenida a la gran apertura de nuestro
  centro en la vibrante ciudad de Doral\, Florida. Este evento promete ser 
 una experiencia inolvidable\, llena de emocionantes sorpresas y momentos e
 speciales que compartir con amigos y familiares.\n\nUna de las figuras má
 s destacadas que nos honrarán con su presencia es Don Francisco\, un íco
 no de la comunidad hispana y un referente en el mundo del entretenimiento.
  Tendrás la oportunidad única de conocerlo\, saludarlo y compartir con 
 él durante esta celebración tan especial.\n\nDetalles del evento\n\n 	Re
 corrido por las instalaciones\n 	¡Música\, comida\, rifas y entretenimie
 nto!\n 	Invitados especiales\n\nNuestro nuevo centro es una muestra de nue
 stro compromiso con el bienestar y la calidad de vida de nuestros resident
 es. Aquí\, podrás explorar una amplia gama de servicios de vanguardia di
 señados para satisfacer tus necesidades\, desde atención médica de cali
 dad hasta programas de apoyo social.\n\nEsta gran apertura es una oportuni
 dad única para aprender más sobre lo que ofrecemos y para celebrar junto
 s este emocionante hito en nuestra comunidad. Marca la fecha en tu calenda
 rio y únete a nosotros en esta emocionante jornada.\n\n¡Te esperamos con
  los brazos abiertos para celebrar el futuro en nuestro nuevo centro en Do
 ral!\n\nInfórmese y coordine su transporte al (305) 998-2048
ATTACH;FMTTYPE=image/jpeg:https://staggingunivida.unividamedicalcenters.co
 m/wp-content/uploads/2023/09/120_September-20th_Doral_website-2.png
LOCATION:UMC Doral\, 3901 NW 79th Ave\, Doral\, FL\, 33166\, United States
GEO:25.809981;-80.324836
X-APPLE-STRUCTURED-LOCATION;VALUE=URI;X-ADDRESS=3901 NW 79th Ave\, Doral\, 
 FL\, 33166\, United States;X-APPLE-RADIUS=100;X-TITLE=UMC Doral:geo:25.809
 981,-80.324836
END:VEVENT
END:VCALENDAR