BEGIN:VCALENDAR
VERSION:2.0
PRODID:-//wp-events-plugin.com//6.4.10.2//EN
BEGIN:VEVENT
UID:34@staggingunivida.unividamedicalcenters.com
DTSTART:20240224T100000Z
DTEND:20240224T140000Z
DTSTAMP:20240726T194109Z
URL:https://staggingunivida.unividamedicalcenters.com/events/gran-apertura
 -en-grand-canal/
SUMMARY:Grand Opening at Grand Canal
DESCRIPTION:Grand Opening of the New Grand Canal Medical Center\n\nUniVida 
 Medical Centers is excited to invite you to the Grand Opening of our lates
 t achievement\, the Grand Canal Medical Center. Join us for this exciting 
 celebration as we inaugurate this new chapter in our mission to care for a
 nd improve the health of the community.\n\nWhat to Expect:\n\nOn this spec
 ial day\, you will enjoy:\n\n 	Vibrant Music: Set a festive mood with melo
 dies filling the air.\n 	Delicious Food Options: Share tasty moments with 
 us as we celebrate this significant milestone.\n 	Exciting Raffles: Partic
 ipate for a chance to win thrilling prizes.\n 	Special Guests: Celebrate w
 ith community leaders and healthcare professionals who have made this new 
 center possible.\n 	Discover Our Medical Services: Explore a wide range of
  services offered at the Grand Canal Medical Center\, including:\n\n 	Prim
 ary Care\n 	Hyperbaric Chamber\n 	Electrocardiogram\n 	X-Ray\n 	Ultrasound
 \n 	Laboratory\n 	Social Services\n 	Benefits Coordinators\n\n\n\nBe Part 
 of This Historic Moment! UniVida invites you to be part of this memorable 
 event. We are committed to providing quality and accessible care to our co
 mmunity\, and this Grand Opening marks a significant step toward that goal
 .\n\nWe look forward to celebrating this important milestone with you. Don
 ’t miss this opportunity to be part of the Grand Opening of the GRAND CA
 NAL MEDICAL CENTER!\n\nContact us at (305) 709-1147
ATTACH;FMTTYPE=image/jpeg:https://staggingunivida.unividamedicalcenters.co
 m/wp-content/uploads/2024/02/163_February-24th_Grand-Canal_website.png
LOCATION:UMC Grand Canal\, 61 Grand Canal Dr Suite 202\, Miami\, FL\, 33144
 \, United States
GEO:25.76963;-80.31429
X-APPLE-STRUCTURED-LOCATION;VALUE=URI;X-ADDRESS=61 Grand Canal Dr Suite 202
 \, Miami\, FL\, 33144\, United States;X-APPLE-RADIUS=100;X-TITLE=UMC Grand
  Canal:geo:25.76963,-80.31429
END:VEVENT
END:VCALENDAR