BEGIN:VCALENDAR
VERSION:2.0
PRODID:-//wp-events-plugin.com//6.4.10.2//EN
BEGIN:VEVENT
UID:12@staggingunivida.unividamedicalcenters.com
DTSTART:20230819T100000Z
DTEND:20230819T140000Z
DTSTAMP:20230814T141619Z
URL:https://staggingunivida.unividamedicalcenters.com/events/gran-apertura
 -en-la-ciudad-de-miami-lakes/
SUMMARY:Gran Apertura en la ciudad de Miami Lakes
DESCRIPTION:¡Gran Apertura en la ciudad de Miami Lakes!\n\nEs un placer da
 rte una cordial bienvenida a la inauguración de nuestro nuevo centro en l
 a encantadora ciudad de Miami Lakes. Estamos emocionados de compartir este
  momento especial contigo.\n\nEsta es una oportunidad que no querrás deja
 r pasar. Tendrás la ocasión única de conocer en persona a la destacada 
 figura de la televisión\, Don Francisco\, así como a otras personalidade
 s influyentes de nuestra comunidad. Además\, podrás disfrutar de las act
 uaciones de comediantes reconocidos que te harán reír sin parar.\n\nDeta
 lles del evento\n\n 	Recorrido por las instalaciones\n 	¡Música\, comida
 \, rifas y entretenimiento!\n 	Invitados especiales\n\n&nbsp\;\n\nDurante 
 este evento\, tendrás la posibilidad de explorar nuestras instalaciones m
 odernas y descubrir la amplia gama de servicios que ofrecemos. Nuestro equ
 ipo estará encantado de brindarte información detallada sobre cómo nues
 tros servicios pueden beneficiarte.\n\nAdemás de la oportunidad de conoce
 r más sobre nuestros servicios\, también podrás disfrutar de horas de e
 ntretenimiento de alta calidad. Será un día lleno de risas\, sorpresas y
  momentos memorables.\n\nEsperamos que te unas a nosotros en esta ocasión
  especial. Tu presencia en este evento será muy apreciada y estamos segur
 os de que te llevarás recuerdos inolvidables.\n\n¡No se pierdan esta emo
 cionante jornada en Miami Lakes! Estamos ansiosos por recibirlos y acompa
 ñarlos en este gran acontecimiento.\n\n¡Los esperamos con los brazos abi
 ertos en nuestro evento de apertura!\n\nInfórmese y coordine su transport
 e al (305) 998-2048
ATTACH;FMTTYPE=image/jpeg:https://staggingunivida.unividamedicalcenters.co
 m/wp-content/uploads/2023/08/August-19th_Miami-Lakes_website.png
LOCATION:UMC Miami Lakes\, 15225 NW 77TH AVE\, Miami Lakes\, FL\, 33014\, U
 nited States
GEO:25.911676;-80.324149
X-APPLE-STRUCTURED-LOCATION;VALUE=URI;X-ADDRESS=15225 NW 77TH AVE\, Miami L
 akes\, FL\, 33014\, United States;X-APPLE-RADIUS=100;X-TITLE=UMC Miami Lak
 es:geo:25.911676,-80.324149
END:VEVENT
END:VCALENDAR