BEGIN:VCALENDAR
VERSION:2.0
PRODID:-//wp-events-plugin.com//6.4.10.2//EN
BEGIN:VEVENT
UID:19@staggingunivida.unividamedicalcenters.com
DTSTART:20231007T100000Z
DTEND:20231007T140000Z
DTSTAMP:20231003T163907Z
URL:https://staggingunivida.unividamedicalcenters.com/events/gran-final-de
 -miss-univida/
SUMMARY:¡Gran Final de Miss UniVida! 
DESCRIPTION:Evento especial: ¡Gran Final de Miss UniVida!\n\nUniVida Medic
 al Centers los invita a disfrutar de esta gran final en la sede de nuestra
 s oficinas corporativas.En esta destacada celebración\, nuestras bellas s
 emifinalistas representarán a nuestros centros con gracia y elegancia\, d
 emostrando la diversidad y la belleza de nuestra comunidad.\n\nEste evento
  promete ser una ocasión especial donde seremos testigos de la elección 
 de las ganadoras de nuestros centros médicos.\n\nLa ganadora elegida se c
 onvertirá en nuestra representante oficial en eventos especiales de UniVi
 da\, llevando consigo el título de Miss UniVida con orgullo. Su papel ser
 á vital para nuestra comunidad\, y estamos emocionados de ver quién se a
 lzará con este honor. Además\, en este evento\, no solo habrá belleza\,
  sino también entretenimiento y diversión para nuestros pacientes. Disfr
 utarán de música\, emocionantes actividades y sorpresas que añadirán u
 n toque especial a esta importante celebración.\n\nAsí que\, te invitamo
 s a unirte a nosotros para vivir este Gran Final de Miss UniVida. Será un
 a noche llena de emociones\, belleza y comunidad. ¡Esperamos contar conti
 go en esta celebración inolvidable!\n\nPara más información sobre el ev
 ento y cómo unirse a la celebración\, pueden llamar al siguiente número
 : 305-998-2048.\n\n¡Los esperamos para compartir juntos esta ocasión esp
 ecial!\n\nUniVida Medical Centers 
ATTACH;FMTTYPE=image/jpeg:https://staggingunivida.unividamedicalcenters.co
 m/wp-content/uploads/2023/10/Miss-Univida-2.png
LOCATION:Lejeune Towers\, 860 NW 42nd Ave\, Miami\, FL\, 33126\, United Sta
 tes
GEO:25.780214;-80.264785
X-APPLE-STRUCTURED-LOCATION;VALUE=URI;X-ADDRESS=860 NW 42nd Ave\, Miami\, F
 L\, 33126\, United States;X-APPLE-RADIUS=100;X-TITLE=Lejeune Towers:geo:25
 .780214,-80.264785
END:VEVENT
END:VCALENDAR