BEGIN:VCALENDAR
VERSION:2.0
PRODID:-//wp-events-plugin.com//6.4.10.2//EN
BEGIN:VEVENT
UID:23@staggingunivida.unividamedicalcenters.com
DTSTART:20231104T100000Z
DTEND:20231104T140000Z
DTSTAMP:20231030T210833Z
URL:https://staggingunivida.unividamedicalcenters.com/events/gran-torneo-d
 e-domino/
SUMMARY:Gran Torneo de Dominó
DESCRIPTION:Evento especial: ¡Torneo de Dominó!\n\n¡Prepara tus fichas y
  coordina tu mejor estrategia\, porque el Gran Torneo de Dominó de UniVid
 a está por comenzar!\n\nEn UniVida Medical Centers\, no solo nos preocupa
 mos por tu salud\, sino que también celebramos momentos de diversión y c
 ompañerismo en cada oportunidad que se presenta. Y qué mejor ocasión qu
 e un apasionante torneo de dominó.\n\nDetalles del evento\n\n 	Recorrido 
 por las instalaciones\n 	¡Música\, comida\, rifas y entretenimiento!\n 	
 Invitados especiales\n 	Torneo de dominó\n\n&nbsp\;\n\nEste evento va má
 s allá de ser solo un juego\; es una oportunidad para estrechar lazos con
  amigos\, familiares y miembros de la comunidad mientras disfrutas de una 
 emocionante partida de dominó.\n\nEn UniVida\, apreciamos la felicidad y 
 el compañerismo\, y nos entusiasma compartir esta experiencia contigo en 
 nuestro Gran Torneo de Dominó.\n\nPara más información sobre el evento 
 y cómo unirse a la celebración\, pueden llamar al siguiente número: 305
 -340-2146.\n\n¡Los esperamos para compartir juntos esta ocasión especial
 !\n\nUniVida Medical Centers 
ATTACH;FMTTYPE=image/jpeg:https://staggingunivida.unividamedicalcenters.co
 m/wp-content/uploads/2023/10/860-NW_evento-domino.png
LOCATION:Lejeune Towers\, 860 NW 42nd Ave\, Miami\, FL\, 33126\, United Sta
 tes
GEO:25.780214;-80.264785
X-APPLE-STRUCTURED-LOCATION;VALUE=URI;X-ADDRESS=860 NW 42nd Ave\, Miami\, F
 L\, 33126\, United States;X-APPLE-RADIUS=100;X-TITLE=Lejeune Towers:geo:25
 .780214,-80.264785
END:VEVENT
END:VCALENDAR