BEGIN:VCALENDAR
VERSION:2.0
PRODID:-//wp-events-plugin.com//6.4.10.2//EN
BEGIN:VEVENT
UID:47@staggingunivida.unividamedicalcenters.com
DTSTART:20240719T000000Z
DTEND:20240719T000000Z
DTSTAMP:20240801T124551Z
URL:https://staggingunivida.unividamedicalcenters.com/events/grand-opening
 -in-palm-ave/
SUMMARY:Grand Opening in Palm Ave
DESCRIPTION:Official Grand Opening in Palm Ave\nJavier Romero invites you t
 o the Grand Official Opening of UniVida Medical Centers at Palm Ave! Join 
 us for a day full of entertainment\, lunch\, music\, and valuable informat
 ion about our health services. Don’t miss this special event:\nDate: Fri
 day\, July 19th\nTime: 9:00 am to 1:00 pm\nLocation: 4526 Palm Avenue\, Hi
 aleah\, FL 33012\nPhone: For more information: (786) 600-7560\nEnjoy an in
 credible day with:\n\n 	\n\n 	Special presentations\n 	Free lunch for atte
 ndees\n 	Live music\n 	Detailed information about our health and wellness 
 services\n\n\n\nThis is a unique opportunity to visit our center\, interac
 t with our team\, and learn how UniVida Medical Centers can contribute to 
 your and your family's well-being! Don’t miss out!
ATTACH;FMTTYPE=image/jpeg:https://staggingunivida.unividamedicalcenters.co
 m/wp-content/uploads/2024/07/Event_Grand-Opening_Palm-Ave_EN.jpg
LOCATION:UMC Palm Ave\, 4526 Palm Avenue\, Hialeah\, FL\, 33012\, United St
 ates
GEO:25.86326;-80.283087
X-APPLE-STRUCTURED-LOCATION;VALUE=URI;X-ADDRESS=4526 Palm Avenue\, Hialeah\
 , FL\, 33012\, United States;X-APPLE-RADIUS=100;X-TITLE=UMC Palm Ave:geo:2
 5.86326,-80.283087
END:VEVENT
END:VCALENDAR