BEGIN:VCALENDAR
VERSION:2.0
PRODID:-//wp-events-plugin.com//6.4.10.2//EN
BEGIN:VEVENT
UID:53@staggingunivida.unividamedicalcenters.com
DTSTART:20240816T090000Z
DTEND:20240816T130000Z
DTSTAMP:20240813T134019Z
URL:https://staggingunivida.unividamedicalcenters.com/events/grand-opening
 -in-pembroke-pines/
SUMMARY:Grand Opening in Pembroke Pines
DESCRIPTION:Univida is pleased to invite you to the grand opening in Pembro
 ke Pines\n\nExciting News for Broward County! We’re thrilled to announce
  the grand opening of our new center! This state-of-the-art facility will 
 offer top-notch healthcare services and support to our community.\n\nWhen?
 : Friday August 16th\nTime? 9:00am to 1:00pm\nWhere?: 1800 N Douglas Rd.\,
  Pembroke Pines\, FL\, 33024\n\nGet ready to enjoy quality time of recreat
 ional activities such as live music and raffles\, great food\, and the vis
 it of important personalities of the community. Join us for the grand open
 ing in Pembroke Pines\nFollow us on social media to stay updated on this e
 xciting event.\nDon't miss it! For transportation call: (305) 709-0722
ATTACH;FMTTYPE=image/jpeg:https://staggingunivida.unividamedicalcenters.co
 m/wp-content/uploads/2024/08/Event_Grand-Opening_Pembroke-Pines_EN.jpg
LOCATION:UMC Pembroke Pines\, 1800 N Douglas Rd\, Pembroke Pines\, FL\, 330
 24\, United States
GEO:26.024358;-80.264822
X-APPLE-STRUCTURED-LOCATION;VALUE=URI;X-ADDRESS=1800 N Douglas Rd\, Pembrok
 e Pines\, FL\, 33024\, United States;X-APPLE-RADIUS=100;X-TITLE=UMC Pembro
 ke Pines:geo:26.024358,-80.264822
END:VEVENT
END:VCALENDAR