BEGIN:VCALENDAR
VERSION:2.0
PRODID:-//wp-events-plugin.com//6.4.10.2//EN
BEGIN:VEVENT
UID:39@staggingunivida.unividamedicalcenters.com
DTSTART:20240726T090000Z
DTEND:20240726T130000Z
DTSTAMP:20240731T205929Z
URL:https://staggingunivida.unividamedicalcenters.com/events/grand-opening
 -of-the-new-wellness-center/
SUMMARY:Grand Opening of the New Wellness Center!
DESCRIPTION:Grand Opening of the New Wellness Center!\n\nJoin us for the in
 auguration of our state-of-the-art wellness center in West Miami. This mod
 ern facility is designed for the enjoyment and benefit of our members and 
 guests.\nThe grand opening will take place on:\nFriday\, July 26th\, 2024\
 n6400 SW 8th Street\, West Miami\, FL 33144\nStarting at 9:00 am to 1:00 p
 m\nWe have planned a morning full of festivities\, including live music\, 
 a delicious lunch\, exciting surprises\, and entertainment for everyone.\n
 From interactive activities to meet-and-greet sessions with our dedicated 
 staff\, there's something for everyone to enjoy. This is a great opportuni
 ty to explore our new facility\, learn about our programs\, and connect wi
 th our community.\nDon't miss this special event! To ensure you don't have
  to worry about transportation\, call us at (305) 709-0722 to reserve yo
 ur ride.\nWe look forward to celebrating with you and showing you all that
  our new wellness center has to offer. This is more than just a grand open
 ing\; it's the start of a new chapter in health and wellness for our commu
 nity.\n\nUniVida Medical Centers 
ATTACH;FMTTYPE=image/jpeg:https://staggingunivida.unividamedicalcenters.co
 m/wp-content/uploads/2024/07/Event_Grand-Opening_Wellness-Center_EN.jpg
LOCATION:UMC - West Miami\, 6400 SW 8th St\, Miami\, FL\, 33144\, United St
 ates
GEO:25.762945;-80.300117
X-APPLE-STRUCTURED-LOCATION;VALUE=URI;X-ADDRESS=6400 SW 8th St\, Miami\, FL
 \, 33144\, United States;X-APPLE-RADIUS=100;X-TITLE=UMC - West Miami:geo:2
 5.762945,-80.300117
END:VEVENT
END:VCALENDAR