BEGIN:VCALENDAR
VERSION:2.0
PRODID:-//wp-events-plugin.com//6.4.10.2//EN
BEGIN:VEVENT
UID:49@staggingunivida.unividamedicalcenters.com
DTSTART:20240717T000000Z
DTEND:20240717T000000Z
DTSTAMP:20240801T130954Z
URL:https://staggingunivida.unividamedicalcenters.com/events/groundbreakin
 g-ceremony/
SUMMARY:Groundbreaking Ceremony
DESCRIPTION:Groundbreaking Ceremony for Our New Headquarters\n\nUniVida Med
 ical Centers is proud to share this important news! Today\, July 17th\, at
  10:00 am\, we begin the construction of our new headquarters at 4353 NE 7
 7th Ave\, Miami\, FL 33166. This modern building will revolutionize health
 care accessibility and quality in South Florida. The emotional groundbreak
 ing ceremony featured our dedicated executives\, hardworking staff\, and e
 veryone who made this dream possible. Together\, we are building a brighte
 r future for our community.
ATTACH;FMTTYPE=image/jpeg:https://staggingunivida.unividamedicalcenters.co
 m/wp-content/uploads/2024/08/Event_Groundbreaking_EN-1.jpg
LOCATION:New Headquarter\, 4353 NW 77th Ave\, Miami\, FL\, 33166\, United S
 tates
GEO:25.845767;-80.186885
X-APPLE-STRUCTURED-LOCATION;VALUE=URI;X-ADDRESS=4353 NW 77th Ave\, Miami\, 
 FL\, 33166\, United States;X-APPLE-RADIUS=100;X-TITLE=New Headquarter:geo:
 25.845767,-80.186885
END:VEVENT
END:VCALENDAR