BEGIN:VCALENDAR
VERSION:2.0
PRODID:-//wp-events-plugin.com//6.4.10.2//EN
BEGIN:VEVENT
UID:5@staggingunivida.unividamedicalcenters.com
DTSTART:20230616T100000Z
DTEND:20230616T140000Z
DTSTAMP:20250812T152715Z
URL:https://staggingunivida.unividamedicalcenters.com/events/homenaje-a-lo
 s-padres/
SUMMARY:Homenajeando a los padres
DESCRIPTION:¡Celebre con nosotros en este homenaje a los padres!\n\nUniVid
 a se complace en invitarlo a un emocionante evento en nuestro Centro Médi
 co en Hialeah. Estamos ubicados en el corazón de esta importante ciudad d
 e nuestro condado\, en el 7000 West 12th Ave. Suite 4\, Hialeah\, FL 33014
 .\n\nDetalles del evento\n\n 	Souvenir y recorrido por las instalaciones\n
  	¡Música\, comida\, rifas y entretenimiento!\n 	Invitados especiales\n\
 n&nbsp\;\n\nEn este evento\, tendrá la oportunidad de conocer al destacad
 o profesional de la salud\, Raúl García\, APRN\, y su equipo de asistent
 es y personal administrativo. Ellos estarán encantados de responder a sus
  preguntas y brindarle información sobre los servicios médicos que ofrec
 emos.\n\nAdemás de conocer al equipo\, este evento será una ocasión inf
 ormativa donde podrá aprender más sobre temas de salud relevantes para l
 os padres. Habrá charlas y presentaciones con consejos y recomendaciones 
 para el cuidado de la salud de los padres\, así como oportunidades para h
 acer preguntas y participar en discusiones.\n\nNo se pierda esta fantásti
 ca oportunidad de celebrar y aprender sobre aspectos relevantes para el bi
 enestar y la salud en general. ¡Esperamos contar con su presencia en este
  evento especial!\n\n¡Los esperamos con los brazos abiertos!\n\nReserve g
 ratis al (305) 587-2812
ATTACH;FMTTYPE=image/jpeg:https://staggingunivida.unividamedicalcenters.co
 m/wp-content/uploads/2023/06/June-16_Evento-padres_evento-website_2.jpg
LOCATION:AV Life\, 7000 West 12 Ave\, Hialeah\, FL\, 33014\, United States
GEO:25.887325;-80.308171
X-APPLE-STRUCTURED-LOCATION;VALUE=URI;X-ADDRESS=7000 West 12 Ave\, Hialeah\
 , FL\, 33014\, United States;X-APPLE-RADIUS=100;X-TITLE=AV Life:geo:25.887
 325,-80.308171
END:VEVENT
END:VCALENDAR