BEGIN:VCALENDAR
VERSION:2.0
PRODID:-//wp-events-plugin.com//6.4.10.2//EN
BEGIN:VEVENT
UID:45@staggingunivida.unividamedicalcenters.com
DTSTART:20240731T000000Z
DTEND:20240731T000000Z
DTSTAMP:20240801T141743Z
URL:https://staggingunivida.unividamedicalcenters.com/events/july-birthday
 s-celebration/
SUMMARY:July Birthdays Celebration
DESCRIPTION:Let’s Celebrate July Birthdays!\nWe want to invite you to the
 se special festivities filled with activities\, gifts\, and well-being.\nJ
 oin us to enjoy a day full of joy and celebration. There will be live musi
 c to set the mood\, exciting raffles with amazing prizes\, and a delicious
  lunch for all attendees.\nThis event is designed to provide memorable mom
 ents and a well-being environment for our members.\nWe look forward to sha
 ring together!\n\nDate: Wednesday\, July 31st\nLocation:860 NW 42nd Ave. M
 iami\, FL 33126\nTime 9:00 am / 1:00 pm\nFor more information\, call us a
 t: (305) 709-0722\n\nUniVida Medical Centers
ATTACH;FMTTYPE=image/jpeg:https://staggingunivida.unividamedicalcenters.co
 m/wp-content/uploads/2024/07/Event_Birthday_EN_v2.jpg
LOCATION:Lejeune Towers\, 860 NW 42nd Ave\, Miami\, FL\, 33126\, United Sta
 tes
GEO:25.780214;-80.264785
X-APPLE-STRUCTURED-LOCATION;VALUE=URI;X-ADDRESS=860 NW 42nd Ave\, Miami\, F
 L\, 33126\, United States;X-APPLE-RADIUS=100;X-TITLE=Lejeune Towers:geo:25
 .780214,-80.264785
END:VEVENT
END:VCALENDAR