BEGIN:VCALENDAR
VERSION:2.0
PRODID:-//wp-events-plugin.com//6.4.10.2//EN
BEGIN:VEVENT
UID:69@staggingunivida.unividamedicalcenters.com
DTSTART:20250117T090000Z
DTEND:20250117T130000Z
DTSTAMP:20250107T210429Z
URL:https://staggingunivida.unividamedicalcenters.com/events/miss-univida-
 2024-grand-finale/
SUMMARY:The Grand Finale of Miss UniVida 2024!
DESCRIPTION:Special Event: The Grand Finale of Miss UniVida 2024!\n\nJoin u
 s for an unforgettable event!\n\nBe part of the Miss UniVida 2024 select
 ion\, where our finalists will compete for the honor of representing our c
 enters throughout the year\, proudly promoting the values of care\, wellne
 ss\, and community.\n\nEvent Details:\n\nDate: Friday\, January 17\nTime:
  9:00 AM\nLocation: 6400 SW 8th St\, West Miami\, FL 33144\n Celebrate 
 this special tradition with us:\n\n 	Cheer on our amazing finalists.\n 	En
 joy a day filled with joy\, excitement\, and community spirit.\n 	Be part 
 of this unique celebration.\n\nWe can’t wait to see you as we crown our 
 new Miss UniVida!\n\nUniVida Medical Centers
ATTACH;FMTTYPE=image/jpeg:https://staggingunivida.unividamedicalcenters.co
 m/wp-content/uploads/2025/01/Event_Miss-UniVida_ENG.jpg
LOCATION:UMC - West Miami\, 6400 SW 8th St\, Miami\, FL\, 33144\, United St
 ates
GEO:25.762945;-80.300117
X-APPLE-STRUCTURED-LOCATION;VALUE=URI;X-ADDRESS=6400 SW 8th St\, Miami\, FL
 \, 33144\, United States;X-APPLE-RADIUS=100;X-TITLE=UMC - West Miami:geo:2
 5.762945,-80.300117
END:VEVENT
END:VCALENDAR