BEGIN:VCALENDAR
VERSION:2.0
PRODID:-//wp-events-plugin.com//6.4.10.2//EN
BEGIN:VEVENT
UID:28@staggingunivida.unividamedicalcenters.com
DTSTART:20231209T100000Z
DTEND:20231209T140000Z
DTSTAMP:20231201T210927Z
URL:https://staggingunivida.unividamedicalcenters.com/events/navidad-en-cu
 tler-bay/
SUMMARY:Navidad en Cutler Bay
DESCRIPTION:Evento: Navidad en Cutler Bay\n\n¡Celebremos juntos la magia d
 e la temporada navideña en nuestro nuevo centro ubicado en Cutler Bay! Es
 tán todos invitados a sumergirse en la alegría festiva en nuestro evento
  navideño\, donde podrán descubrir y disfrutar de todo lo que ofrecemos 
 en esta moderna instalación.\n\nDetalles del evento\n\n 	Recorrido por la
 s instalaciones\n 	¡Música\, comida\, rifas y entretenimiento!\n 	Invita
 dos especiales\n\nUniVida Medical Centers les dará la más cordial bienve
 nida a este evento especial. Durante la jornada\, tendrán la oportunidad 
 de conocer de cerca nuestra amplia gama de servicios médicos y de bienest
 ar que brindamos en este centro.\n\nNuestro objetivo es brindarles informa
 ción detallada sobre nuestros servicios\, para que conozcan las opciones 
 de atención médica y los tratamientos disponibles. Además\, podrán obt
 ener respuestas a sus preguntas y despejar cualquier duda que tengan sobre
  nuestros profesionales y nuestro enfoque de cuidado integral.\n\nPero no 
 todo será información\, ¡también habrá entretenimiento! Queremos que 
 disfruten de una experiencia agradable y divertida durante el evento. Por 
 eso\, hemos preparado actividades especiales\, presentaciones y sorpresas 
 para que puedan pasar un buen rato mientras exploran nuestras instalacione
 s y aprenden más sobre UniVida Medical Centers.\n\n¡No se pierdan esta e
 mocionante jornada en Cutler Bay! Estamos ansiosos por recibirlos y acompa
 ñarlos en este recorrido por UniVida Medical Centers.\n\n¡Los esperamos 
 con los brazos abiertos en nuestro evento navideño!\n\nReserve gratis al
  (305) 340-2146
ATTACH;FMTTYPE=image/jpeg:https://staggingunivida.unividamedicalcenters.co
 m/wp-content/uploads/2023/12/Culter-Bay_Dec-9th.png
LOCATION:Cutler Bay\, 16201 SW 95th Ave\, Cutler Bay\, FL\, 33157\, United 
 States
GEO:25.618456;-80.346593
X-APPLE-STRUCTURED-LOCATION;VALUE=URI;X-ADDRESS=16201 SW 95th Ave\, Cutler 
 Bay\, FL\, 33157\, United States;X-APPLE-RADIUS=100;X-TITLE=Cutler Bay:geo
 :25.618456,-80.346593
END:VEVENT
END:VCALENDAR