BEGIN:VCALENDAR
VERSION:2.0
PRODID:-//wp-events-plugin.com//6.4.10.2//EN
BEGIN:VEVENT
UID:27@staggingunivida.unividamedicalcenters.com
DTSTART:20231202T100000Z
DTEND:20231202T140000Z
DTSTAMP:20231129T214156Z
URL:https://staggingunivida.unividamedicalcenters.com/events/navidad-en-do
 ral/
SUMMARY:Navidad en Doral
DESCRIPTION:Navidad en Doral: Evento de Puertas Abiertas\n\n¡Celebremos ju
 ntos la magia de la temporada navideña en nuestro nuevo centro ubicado en
  el Doral! Están todos invitados a sumergirse en la alegría festiva en n
 uestro evento de puertas abiertas\, donde podrán descubrir y disfrutar de
  todo lo que ofrecemos en esta moderna instalación.\n\nDetalles del event
 o\n\n 	Recorrido por las instalaciones\n 	¡Música\, comida\, rifas y ent
 retenimiento!\n 	Invitados especiales\n\nUniVida Medical Centers les dará
  la más cordial bienvenida a este evento especial. Durante la jornada\, t
 endrán la oportunidad de conocer de cerca nuestra amplia gama de servicio
 s médicos y de bienestar que brindamos en este centro.\n\nNuestro objetiv
 o es brindarles información detallada sobre nuestros servicios\, para que
  conozcan las opciones de atención médica y los tratamientos disponibles
 . Además\, podrán obtener respuestas a sus preguntas y despejar cualquie
 r duda que tengan sobre nuestros profesionales y nuestro enfoque de cuidad
 o integral.\n\nPero no todo será información\, ¡también habrá entrete
 nimiento! Queremos que disfruten de una experiencia agradable y divertida 
 durante el evento. Por eso\, hemos preparado actividades especiales\, pres
 entaciones y sorpresas para que puedan pasar un buen rato mientras explora
 n nuestras instalaciones y aprenden más sobre UniVida Medical Centers.\n\
 n¡No se pierdan esta emocionante jornada en Doral! Estamos ansiosos por r
 ecibirlos y acompañarlos en este recorrido por UniVida Medical Centers.\n
 \n¡Los esperamos con los brazos abiertos en nuestro evento de puertas abi
 ertas!\n\nReserve gratis al (305) 340-2146
ATTACH;FMTTYPE=image/jpeg:https://staggingunivida.unividamedicalcenters.co
 m/wp-content/uploads/2023/11/145_Dic-2_-Doral_website.png
LOCATION:UMC Doral\, 3901 NW 79th Ave\, Doral\, FL\, 33166\, United States
GEO:25.809981;-80.324836
X-APPLE-STRUCTURED-LOCATION;VALUE=URI;X-ADDRESS=3901 NW 79th Ave\, Doral\, 
 FL\, 33166\, United States;X-APPLE-RADIUS=100;X-TITLE=UMC Doral:geo:25.809
 981,-80.324836
END:VEVENT
END:VCALENDAR