BEGIN:VCALENDAR
VERSION:2.0
PRODID:-//wp-events-plugin.com//6.4.10.2//EN
BEGIN:VEVENT
UID:60@staggingunivida.unividamedicalcenters.com
DTSTART:20240928T100000Z
DTEND:20240928T130000Z
DTSTAMP:20240923T155306Z
URL:https://staggingunivida.unividamedicalcenters.com/events/new-open-hous
 e-event-in-west-hialeah/
SUMMARY:New Open House Event in West Hialeah
DESCRIPTION:¡Open House Event in West Hialeah!\n\nThis Saturday\, Septembe
 r 28th\, we invite you to our center in West Hialeah. Our team is ready to
  provide you with quality care in our modern facilities and show you all t
 he benefits of being part of UniVida Medical Centers.\n\nEvent details:\n\
 nWhen?: Saturday\, September 28th\nTime? 9:00 am to 1:00 pm\nWhere?: 3825 
 W 16th Ave\, Hialeah\, FL 33012\n\nDon’t miss this opportunity to enhanc
 e your health and well-being with us!\n\nReserve your transportation at  
 (305) 709-0722
ATTACH;FMTTYPE=image/jpeg:https://staggingunivida.unividamedicalcenters.co
 m/wp-content/uploads/2024/09/Event_Open-House_West-Hialeah_EN.jpg
LOCATION:UMC West Hialeah\, 3825 W 16th Ave\, Hialeah\, Florida\, 33012\, U
 nited States
GEO:25.856468;-80.31418
X-APPLE-STRUCTURED-LOCATION;VALUE=URI;X-ADDRESS=3825 W 16th Ave\, Hialeah\,
  Florida\, 33012\, United States;X-APPLE-RADIUS=100;X-TITLE=UMC West Hiale
 ah:geo:25.856468,-80.31418
END:VEVENT
END:VCALENDAR