BEGIN:VCALENDAR
VERSION:2.0
PRODID:-//wp-events-plugin.com//6.4.10.2//EN
BEGIN:VEVENT
UID:71@staggingunivida.unividamedicalcenters.com
DTSTART:20250208T100000Z
DTEND:20250208T140000Z
DTSTAMP:20250128T200055Z
URL:https://staggingunivida.unividamedicalcenters.com/events/open-house-at
 -univida-in-little-havana/
SUMMARY:Open House at UniVida in Little Havana
DESCRIPTION:Special Event: Open House at UniVida in Little Havana\n\nJoin u
 s for an unforgettable event!\n\nWe invite you to a special event to get t
 o know our new location! Join us for our Open House in Little Havana\, whe
 re we celebrate health and community.\n\nEvent Details:\n\nDate: Saturday\
 , February 8th\, starting at 10:00 AM\nLocation: 1600 W Flagler St\, Miam
 i\, FL 33135\nEnjoy a day filled with fun and valuable information\, inclu
 ding:\n\n 	Live music and entertainment.\n 	Delicious lunch.\n 	Gifts and 
 surprises for everyone\n\n 	Presentation of our comprehensive medical serv
 ices\n\n Come visit our facilities and discover how UniVida Medical Center
 s is here to care for you and your family with personalized healthcare. We
  look forward to celebrating this new chapter in Little Havana with you!\n
 \nUniVida Medical Centers
ATTACH;FMTTYPE=image/jpeg:https://staggingunivida.unividamedicalcenters.co
 m/wp-content/uploads/2025/01/Event_Open-House_Little-Havana_EN.jpg
LOCATION:UMC Little Havana\, 1600 W Flagler St\, Miami\, FL\, 33135\, Unite
 d States
GEO:25.773037;-80.221631
X-APPLE-STRUCTURED-LOCATION;VALUE=URI;X-ADDRESS=1600 W Flagler St\, Miami\,
  FL\, 33135\, United States;X-APPLE-RADIUS=100;X-TITLE=UMC Little Havana:g
 eo:25.773037,-80.221631
END:VEVENT
END:VCALENDAR