BEGIN:VCALENDAR
VERSION:2.0
PRODID:-//wp-events-plugin.com//6.4.10.2//EN
BEGIN:VEVENT
UID:14@staggingunivida.unividamedicalcenters.com
DTSTART:20230826T100000Z
DTEND:20230826T140000Z
DTSTAMP:20230821T182135Z
URL:https://staggingunivida.unividamedicalcenters.com/events/por-mil-razon
 es-de-vivir/
SUMMARY:Por mil razones de vivir
DESCRIPTION:Evento especial:¡Por mil razones de vivir!\n\nUniVida Medical 
 Centers te extiende una cordial invitación para que formes parte de una e
 xperiencia única\, repleta de bienestar y diversión. No puedes dejar pas
 ar este emocionante evento que hemos organizado especialmente pensando en 
 ti.\n\nDisfrutarás de música vibrante\, exquisita comida tropical\, emoc
 ionantes rifas y muchas sorpresas más. Además\, tendrás la oportunidad 
 de llevarte recuerdos especiales y realizar un recorrido por nuestras mode
 rnas instalaciones.\n\nEn "Por mil razones de vivir"\, podrás explorar de
  cerca nuestros servicios médicos y adquirir conocimientos educativos sob
 re cómo mantener tu salud y bienestar en óptimas condiciones. Nuestro eq
 uipo estará encantado de responder a tus preguntas y brindarte informaci
 ón de gran valor.\n\nNo dejes pasar esta ocasión de disfrutar de un día
  lleno de alegría y aprendizaje en UniVida Medical Centers.\n\nTe esperam
 os con los brazos abiertos para compartir momentos inolvidables juntos.\n\
 nInfórmese y coordine su transporte al: 305-998-2048\n\n¡Los esperamos!\
 n\nUnivida Medical Centers\, donde Salud es Vida.
ATTACH;FMTTYPE=image/jpeg:https://staggingunivida.unividamedicalcenters.co
 m/wp-content/uploads/2023/08/114_August-26th_West-Miami_website.png
LOCATION:UMC - West Miami\, 6400 SW 8th St\, Miami\, FL\, 33144\, United St
 ates
GEO:25.762945;-80.300117
X-APPLE-STRUCTURED-LOCATION;VALUE=URI;X-ADDRESS=6400 SW 8th St\, Miami\, FL
 \, 33144\, United States;X-APPLE-RADIUS=100;X-TITLE=UMC - West Miami:geo:2
 5.762945,-80.300117
END:VEVENT
END:VCALENDAR