BEGIN:VCALENDAR
VERSION:2.0
PRODID:-//wp-events-plugin.com//6.4.10.2//EN
BEGIN:VEVENT
UID:32@staggingunivida.unividamedicalcenters.com
DTSTART:20240203T100000Z
DTEND:20240203T140000Z
DTSTAMP:20240125T204302Z
URL:https://staggingunivida.unividamedicalcenters.com/events/por-un-febrer
 o-activo-y-saludable/
SUMMARY:Por un Febrero Activo y Saludable
DESCRIPTION:Por un Febrero Activo y Saludable: ¡Un Evento para tu Bienesta
 r!\n\nUniVida Medical Centers te invita a sumarte a una experiencia única
 \, repleta de salud y diversión. Únete a nosotros en este emocionante ev
 ento diseñado especialmente para ti.\n\nDisfruta de entretenimiento con e
 l elenco de UniVista TV\, emocionantes rifas\, música vibrante y delicios
 a comida saludable. Además\, tendrás la oportunidad de llevarte souvenir
 s especiales y explorar nuestras instalaciones modernas en el sur del cond
 ado Miami-Dade.\n\nEn este evento\, 'Por un Febrero Activo y Saludable'\, 
 podrás descubrir de cerca nuestros servicios médicos y obtener valiosa i
 nformación sobre el cuidado de tu salud y bienestar. Nuestro equipo estar
 á encantado de responder a todas tus preguntas.\n\nNo te pierdas esta opo
 rtunidad de disfrutar de un día lleno de alegría\, aprendizaje y entrete
 nimiento en West Miami. Te esperamos con los brazos abiertos para comparti
 r momentos inolvidables. ¡No faltes!\n\n Llame para información al:  30
 5-998-2048\n\nUniVida Medical Centers 
ATTACH;FMTTYPE=image/jpeg:https://staggingunivida.unividamedicalcenters.co
 m/wp-content/uploads/2024/01/159_February-3rd_Cutler-Bay_website.png
LOCATION:Cutler Bay\, 16201 SW 95th Ave\, Cutler Bay\, FL\, 33157\, United 
 States
GEO:25.618456;-80.346593
X-APPLE-STRUCTURED-LOCATION;VALUE=URI;X-ADDRESS=16201 SW 95th Ave\, Cutler 
 Bay\, FL\, 33157\, United States;X-APPLE-RADIUS=100;X-TITLE=Cutler Bay:geo
 :25.618456,-80.346593
END:VEVENT
END:VCALENDAR