BEGIN:VCALENDAR
VERSION:2.0
PRODID:-//wp-events-plugin.com//6.4.10.2//EN
BEGIN:VEVENT
UID:9@staggingunivida.unividamedicalcenters.com
DTSTART:20230729T100000Z
DTEND:20230729T140000Z
DTSTAMP:20230727T220050Z
URL:https://staggingunivida.unividamedicalcenters.com/events/por-un-verano
 -saludable/
SUMMARY:Por un Verano Saludable
DESCRIPTION:Evento especial "Por un Verano Saludable"\n\nUniVida Medical Ce
 nter te invita cordialmente a unirte a nosotros en este evento especial ce
 ntrado en promover un verano saludable y placentero. Ven y disfruta de un 
 día lleno de música\, baile\, delicioso almuerzo y entretenimiento emoci
 onante.\n\nAspectos destacados del evento:\n\n 	Música y Baile: Deja que 
 los ritmos animados de la música te muevan mientras bailas y celebras las
  alegrías de un verano vibrante.\n 	Delicioso Almuerzo: Disfruta de un al
 muerzo delicioso preparado con un enfoque en la salud y el sabor\, para ma
 ntener tu energía durante toda la jornada.\n 	Entretenimiento Divertido: 
 Ríe y diviértete con el talentoso Carlucho y el entretenido elenco de su
  Show\, quienes te ofrecerán momentos llenos de alegría y diversión.\n 
 	Conoce nuestros Servicios: Aprovecha la oportunidad de conocer más sobre
  los servicios médicos que ofrece UniVida Medical Center. Nuestro equipo 
 estará encantado de brindarte información detallada y responder a todas 
 tus preguntas.\n\nNo te pierdas este evento único donde podrás disfrutar
  de un verano saludable y lleno de diversión. ¡Esperamos verte allí!\n\
 n \n\nUniVida Medical Centers 
ATTACH;FMTTYPE=image/jpeg:https://staggingunivida.unividamedicalcenters.co
 m/wp-content/uploads/2023/07/109_July-29th_860-NW_Event_website.png
LOCATION:Lejeune Towers\, 860 NW 42nd Ave\, Miami\, FL\, 33126\, United Sta
 tes
GEO:25.780214;-80.264785
X-APPLE-STRUCTURED-LOCATION;VALUE=URI;X-ADDRESS=860 NW 42nd Ave\, Miami\, F
 L\, 33126\, United States;X-APPLE-RADIUS=100;X-TITLE=Lejeune Towers:geo:25
 .780214,-80.264785
END:VEVENT
END:VCALENDAR