BEGIN:VCALENDAR
VERSION:2.0
PRODID:-//wp-events-plugin.com//6.4.10.2//EN
BEGIN:VEVENT
UID:31@staggingunivida.unividamedicalcenters.com
DTSTART:20240127T100000Z
DTEND:20240127T140000Z
DTSTAMP:20240802T151751Z
URL:https://staggingunivida.unividamedicalcenters.com/events/resoluciones-
 de-salud/
SUMMARY:Health Resolutions
DESCRIPTION:Health Resolutions: An Event for Your Wellbeing.\n\nUniVida Med
 ical Centers invites you to enjoy an unforgettable experience\, full of we
 llness and fun. You can't miss this exciting event that we have specially 
 prepared for you.\n\nThere will be vibrant music\, delicious tropical food
 \, thrilling raffles\, and many more surprises. Additionally\, you will ha
 ve the opportunity to take home special souvenirs and tour our modern faci
 lities.\n\nAt this event\, ‘Health Resolutions’\, you will be able to 
 get a close look at our medical services and learn in an educational way a
 bout how to take care of your health and wellbeing. Our team will be delig
 hted to answer your questions and provide you with valuable information.\n
 \nDon’t miss this opportunity to enjoy a day full of joy and knowledge i
 n West Miami. We are looking forward to welcoming you with open arms to sh
 are unforgettable moments. Don’t miss out!\n\nCall for information at: 3
 05-998-2048\n\nUniVida Medical Centers 
ATTACH;FMTTYPE=image/jpeg:https://staggingunivida.unividamedicalcenters.co
 m/wp-content/uploads/2024/01/157_January-27th_West-Miami_website.png
LOCATION:UMC - West Miami\, 6400 SW 8th St\, Miami\, FL\, 33144\, United St
 ates
GEO:25.762945;-80.300117
X-APPLE-STRUCTURED-LOCATION;VALUE=URI;X-ADDRESS=6400 SW 8th St\, Miami\, FL
 \, 33144\, United States;X-APPLE-RADIUS=100;X-TITLE=UMC - West Miami:geo:2
 5.762945,-80.300117
END:VEVENT
END:VCALENDAR