BEGIN:VCALENDAR
VERSION:2.0
PRODID:-//wp-events-plugin.com//6.4.10.2//EN
BEGIN:VEVENT
UID:16@staggingunivida.unividamedicalcenters.com
DTSTART:20230916T100000Z
DTEND:20230916T140000Z
DTSTAMP:20230908T141221Z
URL:https://staggingunivida.unividamedicalcenters.com/events/salud-en-sept
 iembre-un-mes-de-bienestar/
SUMMARY:Salud en septiembre: Un mes de bienestar
DESCRIPTION:Evento de Puertas Abiertas: “Salud en septiembre: Un mes de b
 ienestar”\n\nNos complace extender una calurosa bienvenida a todos usted
 es a nuestro emocionante evento de puertas abiertas en Miami Lakes. Este e
 s un día especial en el que tendrán la oportunidad de conocer a Carlucho
 \, un referente de nuestra comunidad\, así como a otros influyentes líde
 res comunitarios.\n\nDetalles del evento\n\n 	Recorrido por las instalacio
 nes\n 	¡Música\, comida\, rifas y entretenimiento!\n 	Invitados especial
 es\n\n&nbsp\;\n\nDurante este evento\, tendrás la posibilidad de explorar
  nuestras instalaciones modernas y descubrir la amplia gama de servicios q
 ue ofrecemos. Nuestro equipo estará encantado de brindarte información d
 etallada sobre cómo nuestros servicios pueden beneficiarte.\n\nLa diversi
 ón y el entretenimiento estarán a la orden del día. Hemos preparado un 
 variado programa lleno de actividades para todas las edades\, para que pue
 dan disfrutar en familia. La música\, el arte y otras sorpresas harán qu
 e este evento sea inolvidable.\n\nAsí que\, marque esta fecha en su calen
 dario y únase a nosotros en nuestro evento de puertas abiertas en Miami L
 akes. Será un día de encuentros\, descubrimientos y diversión. ¡No se 
 lo pueden perder!"\n\n¡No se pierdan esta emocionante jornada en Miami La
 kes! Estamos ansiosos por recibirlos y acompañarlos en este gran aconteci
 miento.\n\n¡Los esperamos con los brazos abiertos en nuestro evento de ap
 ertura!\n\nInfórmese y coordine su transporte al (305) 998-2048
ATTACH;FMTTYPE=image/jpeg:https://staggingunivida.unividamedicalcenters.co
 m/wp-content/uploads/2023/09/August-19th_Miami-Lakes_website-2.png
LOCATION:UMC Miami Lakes\, 15225 NW 77TH AVE\, Miami Lakes\, FL\, 33014\, U
 nited States
GEO:25.911676;-80.324149
X-APPLE-STRUCTURED-LOCATION;VALUE=URI;X-ADDRESS=15225 NW 77TH AVE\, Miami L
 akes\, FL\, 33014\, United States;X-APPLE-RADIUS=100;X-TITLE=UMC Miami Lak
 es:geo:25.911676,-80.324149
END:VEVENT
END:VCALENDAR