BEGIN:VCALENDAR
VERSION:2.0
PRODID:-//wp-events-plugin.com//6.4.10.2//EN
BEGIN:VEVENT
UID:36@staggingunivida.unividamedicalcenters.com
DTSTART:20240302T100000Z
DTEND:20240302T140000Z
DTSTAMP:20240726T193541Z
URL:https://staggingunivida.unividamedicalcenters.com/events/start-a-healt
 hy-march/
SUMMARY:Start a Healthy March
DESCRIPTION:Start a Healthy March with UniVida Medical Centers!\n\nJoin us 
 to welcome spring in a healthy and fun way at our special event dedicated 
 to health and enjoyment. This will be a day full of joy and knowledge\, de
 signed to celebrate the vitality and well-being of our community.\n\nWhat 
 can you expect?\n\nWe invite you to enjoy:\n\n 	Inspiring Music: Lift your
  spirits with vibrant music that marks the start of spring.\n 	Healthy Del
 ights: Discover delicious and healthy food options that complement your li
 festyle.\n 	Exciting Raffles and Prizes: Participate and win prizes that w
 ill motivate you to maintain a healthy focus in your daily life.\n 	Specia
 l Guests: Join health professionals and community leaders who will share t
 heir expertise and valuable tips.\n 	Information about Our Centers and Ser
 vices: Take the opportunity to learn more about UniVida Medical Centers an
 d the services we offer for community wellness. We will be happy to answer
  your questions and provide valuable information.\n\nWe look forward to ce
 lebrating health and happiness in March! Health is life\, and at UniVida\,
  we are committed to promoting a healthy and active lifestyle.\n\nJoin us 
 to celebrate health and happiness in March. We look forward to a day full 
 of fun\, learning\, and community!\n\nFor more information and transportat
 ion\, contact us at (305) 709-0668
ATTACH;FMTTYPE=image/jpeg:https://staggingunivida.unividamedicalcenters.co
 m/wp-content/uploads/2024/02/165_March_West-Miami_website.png
LOCATION:Lejeune Towers\, 860 NW 42nd Ave\, Miami\, FL\, 33126\, United Sta
 tes
GEO:25.780214;-80.264785
X-APPLE-STRUCTURED-LOCATION;VALUE=URI;X-ADDRESS=860 NW 42nd Ave\, Miami\, F
 L\, 33126\, United States;X-APPLE-RADIUS=100;X-TITLE=Lejeune Towers:geo:25
 .780214,-80.264785
END:VEVENT
END:VCALENDAR