BEGIN:VCALENDAR
VERSION:2.0
PRODID:-//wp-events-plugin.com//6.4.10.2//EN
BEGIN:VEVENT
UID:15@staggingunivida.unividamedicalcenters.com
DTSTART:20230909T100000Z
DTEND:20230909T140000Z
DTSTAMP:20230901T202008Z
URL:https://staggingunivida.unividamedicalcenters.com/events/un-festival-d
 e-salud/
SUMMARY:Un Festival de Salud
DESCRIPTION:¡Evento “Un Festival de Salud” en Cutler Bay!\n\nTe invita
 mos cordialmente a unirte a la celebración en nuestro centro ubicado al s
 ur de Miami-Dade. Es un honor para nosotros dar la bienvenida a todos a nu
 estro esperado Festival de Salud. Esta es una ocasión única para sumergi
 rte en un ambiente de bienestar y diversión.\n\nDetalles del evento\n\n 	
 Recorrido por las instalaciones\n 	¡Música\, comida\, rifas y entretenim
 iento!\n 	Invitados especiales\n\n&nbsp\;\n\nEn este día especial\, te in
 vitamos a explorar la amplia variedad de servicios que ofrecemos en estas 
 modernas instalaciones de última generación. Nuestra prioridad es cuidar
  de ti en todos los aspectos\, y por eso hemos reunido a expertos y profes
 ionales de la salud para brindarte información valiosa y consejos sobre c
 ómo mantener un estilo de vida saludable.\n\nQueremos que esta experienci
 a sea inolvidable\, por lo que hemos preparado un emocionante programa de 
 entretenimiento en vivo que te hará vibrar al ritmo de la música y disfr
 utar de momentos llenos de alegría y diversión.\n\nAsí que marca esta f
 echa en tu calendario y únete a nosotros en este Festival de Salud. Será
  un día para cuidar de ti mismo\, aprender y compartir con la comunidad. 
 ¡Esperamos verte allí!"\n\n¡Los esperamos con los brazos abiertos en nu
 estro festival de salud!\n\nReserve gratis al (305) 998-2048
ATTACH;FMTTYPE=image/jpeg:https://staggingunivida.unividamedicalcenters.co
 m/wp-content/uploads/2023/09/117_September-9th_-event-2.png
LOCATION:Cutler Bay\, 16201 SW 95th Ave\, Cutler Bay\, FL\, 33157\, United 
 States
GEO:25.618456;-80.346593
X-APPLE-STRUCTURED-LOCATION;VALUE=URI;X-ADDRESS=16201 SW 95th Ave\, Cutler 
 Bay\, FL\, 33157\, United States;X-APPLE-RADIUS=100;X-TITLE=Cutler Bay:geo
 :25.618456,-80.346593
END:VEVENT
END:VCALENDAR