BEGIN:VCALENDAR
VERSION:2.0
PRODID:-//wp-events-plugin.com//6.4.10.2//EN
BEGIN:VEVENT
UID:17@staggingunivida.unividamedicalcenters.com
DTSTART:20230923T100000Z
DTEND:20230923T140000Z
DTSTAMP:20230918T161029Z
URL:https://staggingunivida.unividamedicalcenters.com/events/una-bienvenid
 a-al-otono/
SUMMARY:¡Una bienvenida al Otoño!
DESCRIPTION:Evento especial: Una bienvenida al Otoño\n\nTe invitamos a dar
  la bienvenida al Otoño con nosotros en una celebración especial dedicad
 a a la gratitud por la buena salud. Este evento es una oportunidad única 
 para aprender más sobre nuestros servicios médicos y los beneficios que 
 ofrecemos\, todo mientras te relajas y disfrutas de un ambiente festivo.\n
 \nDurante esta celebración\, podrás explorar en detalle nuestros servici
 os médicos\, desde atención preventiva hasta tratamientos especializados
 . Nuestro equipo de profesionales estará a tu disposición para responder
  a tus preguntas y proporcionarte información valiosa sobre cómo cuidar 
 tu salud de la mejor manera posible.\n\nNo se pierda este evento lleno de 
 momentos entretenidos y llenos de información para ti y tu familia. La m
 úsica en vivo creará una atmósfera animada\, mientras que una deliciosa
  variedad de comidas te permitirá saborear la temporada otoñal. También
  podrás participar en emocionantes rifas y disfrutar de actividades que p
 ondrán a prueba tus conocimientos sobre salud de una manera divertida y e
 ducativa.\n\nLa salud es el mayor tesoro que tenemos\, y en este evento\, 
 queremos celebrarla contigo. Así que\, marca la fecha en tu calendario y 
 únete a nosotros en nuestra celebración otoñal. Será una jornada llena
  de música\, comida\, entretenimiento y\, sobre todo\, información valio
 sa sobre cómo mantener tu salud en óptimas condiciones. ¡No te lo puede
 s perder!"\n\nInfórmese y coordine su transporte  al:  305-998-2048\n\n
 UniVida Medical Centers 
ATTACH;FMTTYPE=image/jpeg:https://staggingunivida.unividamedicalcenters.co
 m/wp-content/uploads/2023/09/119_September-23th_-West-Miami_website.png
LOCATION:UMC - West Miami\, 6400 SW 8th St\, Miami\, FL\, 33144\, United St
 ates
GEO:25.762945;-80.300117
X-APPLE-STRUCTURED-LOCATION;VALUE=URI;X-ADDRESS=6400 SW 8th St\, Miami\, FL
 \, 33144\, United States;X-APPLE-RADIUS=100;X-TITLE=UMC - West Miami:geo:2
 5.762945,-80.300117
END:VEVENT
END:VCALENDAR