BEGIN:VCALENDAR
VERSION:2.0
PRODID:-//wp-events-plugin.com//6.4.10.2//EN
BEGIN:VEVENT
UID:21@staggingunivida.unividamedicalcenters.com
DTSTART:20231021T100000Z
DTEND:20231021T140000Z
DTSTAMP:20240131T221719Z
URL:https://staggingunivida.unividamedicalcenters.com/events/unete-a-univi
 da-donde-salud-es-vida/
SUMMARY:Únete a UniVida\,Donde Salud es Vida
DESCRIPTION:Evento: Únete a UniVida\, ¡Donde Salud es Vida!\n\nTe invitam
 os a la celebración del Período de Inscripción Anual en nuestro centro 
 ubicado al sur del condado.\n\nDetalles del evento\n\n 	Recorrido por las 
 instalaciones\n 	¡Música\, comida\, rifas y entretenimiento!\n 	Invitado
 s especiales\n\nDurante este evento\, tendrás la oportunidad de obtener i
 nformación detallada sobre nuestros servicios médicos y de bienestar. Nu
 estro equipo estará a tu disposición para responder a tus preguntas y br
 indarte orientación sobre las opciones de atención médica y los tratami
 entos disponibles.\n\nPero no se trata solo de información\; también que
 remos que disfrutes de momentos agradables y divertidos mientras exploras 
 nuestras instalaciones y conoces más sobre nuestra filosofía de atenció
 n integral.\n\nEste evento de puertas abiertas es una ocasión especial pa
 ra conectarte con la comunidad y estrechar lazos. Estamos emocionados por 
 compartir nuestro compromiso con la salud y el bienestar contigo y mostrar
 te cómo trabajamos para promover una vida saludable y plena.\n\nTe espera
 mos con los brazos abiertos en nuestro evento especial. ¡No te lo puedes 
 perder!\n\nReserve gratis al (305) 340-2146
ATTACH;FMTTYPE=image/jpeg:https://staggingunivida.unividamedicalcenters.co
 m/wp-content/uploads/2023/10/October-21st_flyer_Cutler-Bay-website-1.png
LOCATION:Cutler Bay\, 16201 SW 95th Ave\, Cutler Bay\, FL\, 33157\, United 
 States
GEO:25.618456;-80.346593
X-APPLE-STRUCTURED-LOCATION;VALUE=URI;X-ADDRESS=16201 SW 95th Ave\, Cutler 
 Bay\, FL\, 33157\, United States;X-APPLE-RADIUS=100;X-TITLE=Cutler Bay:geo
 :25.618456,-80.346593
END:VEVENT
END:VCALENDAR