BEGIN:VCALENDAR
VERSION:2.0
PRODID:-//wp-events-plugin.com//6.4.10.2//EN
BEGIN:VEVENT
UID:26@staggingunivida.unividamedicalcenters.com
DTSTART:20231118T100000Z
DTEND:20231118T140000Z
DTSTAMP:20231109T195558Z
URL:https://staggingunivida.unividamedicalcenters.com/events/unidos-en-gra
 titud/
SUMMARY:Unidos en Gratitud
DESCRIPTION:Unidos en Gratitud  ¡Por la salud y la vida!\n\nEn nuestro ev
 ento especial "Unidos en Gratitud"\, queremos invitarte a una experiencia 
 única donde la celebración de la salud y la vida se combina con el espí
 ritu agradecido de Acción de Gracias.\n\nDetalles del Evento:\n\n 	Ambien
 te Festivo: Sumérgete en un ambiente festivo repleto de música que eleva
  el espíritu\, deliciosa comida que satisface los sentidos y sorpresas em
 ocionantes que te llenarán de alegría.\n 	Recuerdos Especiales: Como par
 te de esta experiencia única\, tendrás la oportunidad de llevarte recuer
 dos especiales que capturan la esencia de este evento significativo. Quere
 mos que cada momento sea inolvidable.\n 	Explora Nuestro Centro: ¿Te gust
 aría conocer más sobre lo que ofrecemos en UniVida Medical Centers? Apro
 vecha la oportunidad de realizar un recorrido por nuestro Centro y descubr
 ir cómo estamos comprometidos con tu bienestar.\n 	Agradecimiento y Compa
 rtir Alegres Momentos: Acción de Gracias es un momento especial para agra
 decer y compartir momentos alegres con amigos y el dedicado equipo de UniV
 ida. Queremos que te sientas parte de nuestra familia mientras celebramos 
 juntos la vida y la salud.\n\nEsta festividad es más que un evento\; es u
 na oportunidad para expresar gratitud y disfrutar de la compañía de aque
 llos que valoramos. ¡Esperamos sinceramente verte ahí celebrando con nos
 otros en UniVida Medical Centers!\n\nEsperamos que te unas a nosotros en e
 sta ocasión especial. Tu presencia en este evento será muy apreciada y e
 stamos seguros de que te llevarás recuerdos inolvidables.\n\n¡No se pier
 dan esta emocionante jornada en Miami Lakes! Estamos ansiosos por recibirl
 os y acompañarlos en este gran acontecimiento.\n\n¡Los esperamos con los
  brazos abiertos en nuestro evento Unidos en Gratitud!\n\nInfórmese y coo
 rdine su transporte al (305) 340-2146
ATTACH;FMTTYPE=image/jpeg:https://staggingunivida.unividamedicalcenters.co
 m/wp-content/uploads/2023/11/Thanksgiving_Miami-Lakes_November-18th.png
LOCATION:UMC Miami Lakes\, 15225 NW 77TH AVE\, Miami Lakes\, FL\, 33014\, U
 nited States
GEO:25.911676;-80.324149
X-APPLE-STRUCTURED-LOCATION;VALUE=URI;X-ADDRESS=15225 NW 77TH AVE\, Miami L
 akes\, FL\, 33014\, United States;X-APPLE-RADIUS=100;X-TITLE=UMC Miami Lak
 es:geo:25.911676,-80.324149
END:VEVENT
END:VCALENDAR